BEGIN:VCALENDAR
VERSION:2.0
PRODID:-//Répertoire d’organismes et associations communautaires de la région de Coaticook - ECPv6.15.20//NONSGML v1.0//EN
CALSCALE:GREGORIAN
METHOD:PUBLISH
X-ORIGINAL-URL:https://ressourcescoaticook.com
X-WR-CALDESC:Évènements pour Répertoire d’organismes et associations communautaires de la région de Coaticook
REFRESH-INTERVAL;VALUE=DURATION:PT1H
X-Robots-Tag:noindex
X-PUBLISHED-TTL:PT1H
BEGIN:VTIMEZONE
TZID:America/Toronto
BEGIN:DAYLIGHT
TZOFFSETFROM:-0500
TZOFFSETTO:-0400
TZNAME:EDT
DTSTART:20250309T070000
END:DAYLIGHT
BEGIN:STANDARD
TZOFFSETFROM:-0400
TZOFFSETTO:-0500
TZNAME:EST
DTSTART:20251102T060000
END:STANDARD
BEGIN:DAYLIGHT
TZOFFSETFROM:-0500
TZOFFSETTO:-0400
TZNAME:EDT
DTSTART:20260308T070000
END:DAYLIGHT
BEGIN:STANDARD
TZOFFSETFROM:-0400
TZOFFSETTO:-0500
TZNAME:EST
DTSTART:20261101T060000
END:STANDARD
BEGIN:DAYLIGHT
TZOFFSETFROM:-0500
TZOFFSETTO:-0400
TZNAME:EDT
DTSTART:20270314T070000
END:DAYLIGHT
BEGIN:STANDARD
TZOFFSETFROM:-0400
TZOFFSETTO:-0500
TZNAME:EST
DTSTART:20271107T060000
END:STANDARD
END:VTIMEZONE
BEGIN:VEVENT
DTSTART;TZID=America/Toronto:20260501T093000
DTEND;TZID=America/Toronto:20260501T110000
DTSTAMP:20260422T090319
CREATED:20260106T183756Z
LAST-MODIFIED:20260303T163807Z
UID:10009064-1777627800-1777633200@ressourcescoaticook.com
SUMMARY:Ludi-mini
DESCRIPTION:Ludi-mini est le moment parfait pour venir profiter de notre aire de jeux avec vos enfants\, rencontrer d’autres parents\, jaser avec les intervenantes-familles et manger une bonne collation. Au plaisir de vous y voir ! \nDe 9 h 30 à 11 h tous les vendredis
URL:https://ressourcescoaticook.com/evenement/ludi-mini/2026-05-01/
LOCATION:Maison de la famille MRC de Coaticook\, 50 rue Court\, Coaticook\, Québec\, J1A 1L1\, Canada
END:VEVENT
BEGIN:VEVENT
DTSTART;TZID=America/Toronto:20260502T100000
DTEND;TZID=America/Toronto:20260502T113000
DTSTAMP:20260422T090319
CREATED:20250605T194734Z
LAST-MODIFIED:20250605T194734Z
UID:10008175-1777716000-1777721400@ressourcescoaticook.com
SUMMARY:Heure du conte
DESCRIPTION:Chaque samedi à 10h\, c’est l’heure du conte à la bibliothèque! \nEn compagne de Mégane\, les jeunes assistent à l’heure du conte et bricolent sous un thème qui change chaque semaine. \nC’est gratuit et il n’y a aucune inscription nécessaire…
URL:https://ressourcescoaticook.com/evenement/heure-du-conte-5/2026-05-02/
LOCATION:Bibliothèque Françoise-Maurice de Coaticook\, 34\, rue Main Est\, Coaticook\, Québec\, J1A 2B3\, Canada
ATTACH;FMTTYPE=image/png:https://ressourcescoaticook.com/wp-content/uploads/2025/06/Heure-du-conte_FB-940-x-600-px-940-x-450-px-Depliant-a-trois-volets.png
GEO:45.1324382;-71.8046165
X-APPLE-STRUCTURED-LOCATION;VALUE=URI;X-ADDRESS=Bibliothèque Françoise-Maurice de Coaticook 34 rue Main Est Coaticook Québec J1A 2B3 Canada;X-APPLE-RADIUS=500;X-TITLE=34\, rue Main Est:geo:-71.8046165,45.1324382
END:VEVENT
BEGIN:VEVENT
DTSTART;TZID=America/Toronto:20260505T093000
DTEND;TZID=America/Toronto:20260505T113000
DTSTAMP:20260422T090319
CREATED:20250430T145858Z
LAST-MODIFIED:20250430T145858Z
UID:10007709-1777973400-1777980600@ressourcescoaticook.com
SUMMARY:Café Parent'Jase
DESCRIPTION:Venez prendre un bon café et échanger sur différentes thématiques! \nLe Parent-Jase c’est le rendez-vous hebdomadaire des parents! C’est aussi un espace d’échange et dialogue où les familles peuvent discuter librement sans se sentir jugées. Au menu : discussions sur divers sujets entourant la parentalité\, conférences\, ateliers créatifs et de croissance personnelle\, cuisines… suivez-nous sur Facebook pour en savoir plus! \nHoraire: mardi 9h30 à 11h30\nLieu: Maison de la famille 50\, rue Court\nTarif: gratuit\, café inclus!
URL:https://ressourcescoaticook.com/evenement/cafe-parentjase-2/2026-05-05/
LOCATION:Maison de la famille MRC de Coaticook\, 50 rue Court\, Coaticook\, Québec\, J1A 1L1\, Canada
ATTACH;FMTTYPE=image/png:https://ressourcescoaticook.com/wp-content/uploads/2025/04/parent-jase-1660759872-e1746025117791.png
END:VEVENT
BEGIN:VEVENT
DTSTART;TZID=America/Toronto:20260506T130000
DTEND;TZID=America/Toronto:20260506T164500
DTSTAMP:20260422T090319
CREATED:20250827T140113Z
LAST-MODIFIED:20250827T140113Z
UID:10008645-1778072400-1778085900@ressourcescoaticook.com
SUMMARY:Jeux FADOQ
DESCRIPTION:
URL:https://ressourcescoaticook.com/evenement/jeux-fadoq-14/
LOCATION:Centre communautaire de Coaticook (Élie-Carrier)\, 464 rue Merrill\, Coaticook\, Québec\, J1A 1X5
ATTACH;FMTTYPE=image/png:https://ressourcescoaticook.com/wp-content/uploads/2025/08/Jeux-FADOQ.png
ORGANIZER;CN="FADOQ Coaticook":MAILTO:info.coaticook@fadoqestrie.ca
GEO:45.1336856;-71.8039462
X-APPLE-STRUCTURED-LOCATION;VALUE=URI;X-ADDRESS=Centre communautaire de Coaticook (Élie-Carrier) 464 rue Merrill Coaticook Québec J1A 1X5;X-APPLE-RADIUS=500;X-TITLE=464 rue Merrill:geo:-71.8039462,45.1336856
END:VEVENT
BEGIN:VEVENT
DTSTART;TZID=America/Toronto:20260507T190000
DTEND;TZID=America/Toronto:20260507T220000
DTSTAMP:20260422T090319
CREATED:20250827T140530Z
LAST-MODIFIED:20250827T140530Z
UID:10008649-1778180400-1778191200@ressourcescoaticook.com
SUMMARY:Bingo FADOQ Coaticook
DESCRIPTION:
URL:https://ressourcescoaticook.com/evenement/bingo-fadoq-coaticook-15/
LOCATION:Centre communautaire de Coaticook (Élie-Carrier)\, 464 rue Merrill\, Coaticook\, Québec\, J1A 1X5
ATTACH;FMTTYPE=image/jpeg:https://ressourcescoaticook.com/wp-content/uploads/2025/08/Bingo-FADOQ-scaled.jpg
ORGANIZER;CN="FADOQ Coaticook":MAILTO:info.coaticook@fadoqestrie.ca
GEO:45.1336856;-71.8039462
X-APPLE-STRUCTURED-LOCATION;VALUE=URI;X-ADDRESS=Centre communautaire de Coaticook (Élie-Carrier) 464 rue Merrill Coaticook Québec J1A 1X5;X-APPLE-RADIUS=500;X-TITLE=464 rue Merrill:geo:-71.8039462,45.1336856
END:VEVENT
BEGIN:VEVENT
DTSTART;TZID=America/Toronto:20260508T093000
DTEND;TZID=America/Toronto:20260508T110000
DTSTAMP:20260422T090319
CREATED:20260106T183756Z
LAST-MODIFIED:20260303T163807Z
UID:10009065-1778232600-1778238000@ressourcescoaticook.com
SUMMARY:Ludi-mini
DESCRIPTION:Ludi-mini est le moment parfait pour venir profiter de notre aire de jeux avec vos enfants\, rencontrer d’autres parents\, jaser avec les intervenantes-familles et manger une bonne collation. Au plaisir de vous y voir ! \nDe 9 h 30 à 11 h tous les vendredis
URL:https://ressourcescoaticook.com/evenement/ludi-mini/2026-05-08/
LOCATION:Maison de la famille MRC de Coaticook\, 50 rue Court\, Coaticook\, Québec\, J1A 1L1\, Canada
END:VEVENT
BEGIN:VEVENT
DTSTART;TZID=America/Toronto:20260509T100000
DTEND;TZID=America/Toronto:20260509T113000
DTSTAMP:20260422T090319
CREATED:20250605T194734Z
LAST-MODIFIED:20250605T194734Z
UID:10008176-1778320800-1778326200@ressourcescoaticook.com
SUMMARY:Heure du conte
DESCRIPTION:Chaque samedi à 10h\, c’est l’heure du conte à la bibliothèque! \nEn compagne de Mégane\, les jeunes assistent à l’heure du conte et bricolent sous un thème qui change chaque semaine. \nC’est gratuit et il n’y a aucune inscription nécessaire…
URL:https://ressourcescoaticook.com/evenement/heure-du-conte-5/2026-05-09/
LOCATION:Bibliothèque Françoise-Maurice de Coaticook\, 34\, rue Main Est\, Coaticook\, Québec\, J1A 2B3\, Canada
ATTACH;FMTTYPE=image/png:https://ressourcescoaticook.com/wp-content/uploads/2025/06/Heure-du-conte_FB-940-x-600-px-940-x-450-px-Depliant-a-trois-volets.png
GEO:45.1324382;-71.8046165
X-APPLE-STRUCTURED-LOCATION;VALUE=URI;X-ADDRESS=Bibliothèque Françoise-Maurice de Coaticook 34 rue Main Est Coaticook Québec J1A 2B3 Canada;X-APPLE-RADIUS=500;X-TITLE=34\, rue Main Est:geo:-71.8046165,45.1324382
END:VEVENT
BEGIN:VEVENT
DTSTART;TZID=America/Toronto:20260512T093000
DTEND;TZID=America/Toronto:20260512T113000
DTSTAMP:20260422T090319
CREATED:20250430T145858Z
LAST-MODIFIED:20250430T145858Z
UID:10007710-1778578200-1778585400@ressourcescoaticook.com
SUMMARY:Café Parent'Jase
DESCRIPTION:Venez prendre un bon café et échanger sur différentes thématiques! \nLe Parent-Jase c’est le rendez-vous hebdomadaire des parents! C’est aussi un espace d’échange et dialogue où les familles peuvent discuter librement sans se sentir jugées. Au menu : discussions sur divers sujets entourant la parentalité\, conférences\, ateliers créatifs et de croissance personnelle\, cuisines… suivez-nous sur Facebook pour en savoir plus! \nHoraire: mardi 9h30 à 11h30\nLieu: Maison de la famille 50\, rue Court\nTarif: gratuit\, café inclus!
URL:https://ressourcescoaticook.com/evenement/cafe-parentjase-2/2026-05-12/
LOCATION:Maison de la famille MRC de Coaticook\, 50 rue Court\, Coaticook\, Québec\, J1A 1L1\, Canada
ATTACH;FMTTYPE=image/png:https://ressourcescoaticook.com/wp-content/uploads/2025/04/parent-jase-1660759872-e1746025117791.png
END:VEVENT
BEGIN:VEVENT
DTSTART;TZID=America/Toronto:20260513T120000
DTEND;TZID=America/Toronto:20260513T131500
DTSTAMP:20260422T090319
CREATED:20260119T190818Z
LAST-MODIFIED:20260119T191322Z
UID:10009367-1778673600-1778678100@ressourcescoaticook.com
SUMMARY:RDV industriel-RH
DESCRIPTION:Les RDV Industriel sont un espace d’échange et d’interaction pour les acteurs du milieu industriel et du milieu des affaires\, de la gestion et de l’entrepreneuriat de la région de Coaticook: Dans une formule détendue autour d’un dîner\, les membres du secteur industriels* et/ou des ressources humaines sont invités à partager ou discuter de tout sujet relié à la pratique des affaires dans leur(s) secteur(s) d’activité(s). \n  \nMembre de la CCIRC : 34\,49 $ Taxes incluses\nnon-membre 51\,74$\nAccès à l’événement avec un dîner complet
URL:https://ressourcescoaticook.com/evenement/rdv-industriel-rh/2026-05-13/
LOCATION:Salle l’Épervier de Coaticook
ATTACH;FMTTYPE=image/png:https://ressourcescoaticook.com/wp-content/uploads/2026/01/rdv-industriel-logo-2026.png
END:VEVENT
BEGIN:VEVENT
DTSTART;TZID=America/Toronto:20260513T130000
DTEND;TZID=America/Toronto:20260513T160000
DTSTAMP:20260422T090319
CREATED:20250827T180448Z
LAST-MODIFIED:20250827T180448Z
UID:10008700-1778677200-1778688000@ressourcescoaticook.com
SUMMARY:Jeux du mercredi
DESCRIPTION:Jeux et activités tout l’après-midi\nPossibilité de prendre votre carte FADOQ sur place\nACTIVITÉS GRATUITES ET COLLATIONS\nBIENVENUE\nà tous les membres FADOQ !!!\n***Prenez note que de participer ou s’inscrire à une activité\nconstitue une autorisation de diffusion des photos\nou vidéos de l’activité par le club FADOQ-Coaticook.
URL:https://ressourcescoaticook.com/evenement/jeux-du-mercredi-11/
LOCATION:Centre communautaire de Coaticook (Élie-Carrier)\, 464 rue Merrill\, Coaticook\, Québec\, J1A 1X5
ATTACH;FMTTYPE=image/png:https://ressourcescoaticook.com/wp-content/uploads/2025/08/Jeux-mercredi.png
ORGANIZER;CN="FADOQ Coaticook":MAILTO:info.coaticook@fadoqestrie.ca
GEO:45.1336856;-71.8039462
X-APPLE-STRUCTURED-LOCATION;VALUE=URI;X-ADDRESS=Centre communautaire de Coaticook (Élie-Carrier) 464 rue Merrill Coaticook Québec J1A 1X5;X-APPLE-RADIUS=500;X-TITLE=464 rue Merrill:geo:-71.8039462,45.1336856
END:VEVENT
BEGIN:VEVENT
DTSTART;TZID=America/Toronto:20260514T183000
DTEND;TZID=America/Toronto:20260514T213000
DTSTAMP:20260422T090319
CREATED:20260421T201029Z
LAST-MODIFIED:20260421T201100Z
UID:10009438-1778783400-1778794200@ressourcescoaticook.com
SUMMARY:Les Scèneux du Pavillon : pièce de théâtre La passe du cochon qui tousse
DESCRIPTION:Résumé : \nDans une usine de fabrication de tirelires en forme de cochons en pleine tourmente\, le patron croit avoir trouvé une idée\, malheureusement désastreuse\, pour remettre l’entreprise sur les rails. Au même moment\, les États‑Unis augmentent drastiquement leurs tarifs douaniers\, aggravant encore la situation. Rien ne va plus. \nFace à l’effondrement annoncé\, les employés décident de tenter une ultime manœuvre pour sauver leur avenir. C’est alors qu’une ancienne employée\, déterminée et pleine de ressources\, revient pour leur prêter main‑forte et raviver l’espoir. \n  \nComédiennes et comédiens : \n\nSabrina Rhéaume\nJulie Grenier\nChantal Bouchard\nMarie-Claude Dubeau\nOdette Harvey\nJocelyne Bélair\nPaméla B.Steen\nJean Camden\nDenis Beloin\nGuy Bilodeau\nStéphanie St-Pierre\nAngèle Cayer\nSteven Boldu
URL:https://ressourcescoaticook.com/evenement/les-sceneux-du-pavillon-piece-de-theatre-la-passe-du-cochon-qui-tousse/2026-05-14/
LOCATION:Pavillon des arts et de la culture de Coaticook\, 116 Rue Wellington\, Coaticook\, Qc\, J1A 1K1\, Canada
CATEGORIES:En présence
ATTACH;FMTTYPE=image/jpeg:https://ressourcescoaticook.com/wp-content/uploads/2026/04/Affiche-promotionnelle-mai-2026-1.jpg
GEO:45.1341267;-71.8038986
X-APPLE-STRUCTURED-LOCATION;VALUE=URI;X-ADDRESS=Pavillon des arts et de la culture de Coaticook 116 Rue Wellington Coaticook Qc J1A 1K1 Canada;X-APPLE-RADIUS=500;X-TITLE=116 Rue Wellington:geo:-71.8038986,45.1341267
END:VEVENT
BEGIN:VEVENT
DTSTART;TZID=America/Toronto:20260515T093000
DTEND;TZID=America/Toronto:20260515T110000
DTSTAMP:20260422T090319
CREATED:20260106T183756Z
LAST-MODIFIED:20260303T163807Z
UID:10009066-1778837400-1778842800@ressourcescoaticook.com
SUMMARY:Ludi-mini
DESCRIPTION:Ludi-mini est le moment parfait pour venir profiter de notre aire de jeux avec vos enfants\, rencontrer d’autres parents\, jaser avec les intervenantes-familles et manger une bonne collation. Au plaisir de vous y voir ! \nDe 9 h 30 à 11 h tous les vendredis
URL:https://ressourcescoaticook.com/evenement/ludi-mini/2026-05-15/
LOCATION:Maison de la famille MRC de Coaticook\, 50 rue Court\, Coaticook\, Québec\, J1A 1L1\, Canada
END:VEVENT
BEGIN:VEVENT
DTSTART;TZID=America/Toronto:20260515T183000
DTEND;TZID=America/Toronto:20260515T213000
DTSTAMP:20260422T090319
CREATED:20260421T201029Z
LAST-MODIFIED:20260421T201100Z
UID:10009439-1778869800-1778880600@ressourcescoaticook.com
SUMMARY:Les Scèneux du Pavillon : pièce de théâtre La passe du cochon qui tousse
DESCRIPTION:Résumé : \nDans une usine de fabrication de tirelires en forme de cochons en pleine tourmente\, le patron croit avoir trouvé une idée\, malheureusement désastreuse\, pour remettre l’entreprise sur les rails. Au même moment\, les États‑Unis augmentent drastiquement leurs tarifs douaniers\, aggravant encore la situation. Rien ne va plus. \nFace à l’effondrement annoncé\, les employés décident de tenter une ultime manœuvre pour sauver leur avenir. C’est alors qu’une ancienne employée\, déterminée et pleine de ressources\, revient pour leur prêter main‑forte et raviver l’espoir. \n  \nComédiennes et comédiens : \n\nSabrina Rhéaume\nJulie Grenier\nChantal Bouchard\nMarie-Claude Dubeau\nOdette Harvey\nJocelyne Bélair\nPaméla B.Steen\nJean Camden\nDenis Beloin\nGuy Bilodeau\nStéphanie St-Pierre\nAngèle Cayer\nSteven Boldu
URL:https://ressourcescoaticook.com/evenement/les-sceneux-du-pavillon-piece-de-theatre-la-passe-du-cochon-qui-tousse/2026-05-15/
LOCATION:Pavillon des arts et de la culture de Coaticook\, 116 Rue Wellington\, Coaticook\, Qc\, J1A 1K1\, Canada
CATEGORIES:En présence
ATTACH;FMTTYPE=image/jpeg:https://ressourcescoaticook.com/wp-content/uploads/2026/04/Affiche-promotionnelle-mai-2026-1.jpg
GEO:45.1341267;-71.8038986
X-APPLE-STRUCTURED-LOCATION;VALUE=URI;X-ADDRESS=Pavillon des arts et de la culture de Coaticook 116 Rue Wellington Coaticook Qc J1A 1K1 Canada;X-APPLE-RADIUS=500;X-TITLE=116 Rue Wellington:geo:-71.8038986,45.1341267
END:VEVENT
BEGIN:VEVENT
DTSTART;TZID=America/Toronto:20260516T100000
DTEND;TZID=America/Toronto:20260516T113000
DTSTAMP:20260422T090319
CREATED:20250605T194734Z
LAST-MODIFIED:20250605T194734Z
UID:10008177-1778925600-1778931000@ressourcescoaticook.com
SUMMARY:Heure du conte
DESCRIPTION:Chaque samedi à 10h\, c’est l’heure du conte à la bibliothèque! \nEn compagne de Mégane\, les jeunes assistent à l’heure du conte et bricolent sous un thème qui change chaque semaine. \nC’est gratuit et il n’y a aucune inscription nécessaire…
URL:https://ressourcescoaticook.com/evenement/heure-du-conte-5/2026-05-16/
LOCATION:Bibliothèque Françoise-Maurice de Coaticook\, 34\, rue Main Est\, Coaticook\, Québec\, J1A 2B3\, Canada
ATTACH;FMTTYPE=image/png:https://ressourcescoaticook.com/wp-content/uploads/2025/06/Heure-du-conte_FB-940-x-600-px-940-x-450-px-Depliant-a-trois-volets.png
GEO:45.1324382;-71.8046165
X-APPLE-STRUCTURED-LOCATION;VALUE=URI;X-ADDRESS=Bibliothèque Françoise-Maurice de Coaticook 34 rue Main Est Coaticook Québec J1A 2B3 Canada;X-APPLE-RADIUS=500;X-TITLE=34\, rue Main Est:geo:-71.8046165,45.1324382
END:VEVENT
BEGIN:VEVENT
DTSTART;TZID=America/Toronto:20260516T183000
DTEND;TZID=America/Toronto:20260516T213000
DTSTAMP:20260422T090319
CREATED:20260421T201029Z
LAST-MODIFIED:20260421T201100Z
UID:10009440-1778956200-1778967000@ressourcescoaticook.com
SUMMARY:Les Scèneux du Pavillon : pièce de théâtre La passe du cochon qui tousse
DESCRIPTION:Résumé : \nDans une usine de fabrication de tirelires en forme de cochons en pleine tourmente\, le patron croit avoir trouvé une idée\, malheureusement désastreuse\, pour remettre l’entreprise sur les rails. Au même moment\, les États‑Unis augmentent drastiquement leurs tarifs douaniers\, aggravant encore la situation. Rien ne va plus. \nFace à l’effondrement annoncé\, les employés décident de tenter une ultime manœuvre pour sauver leur avenir. C’est alors qu’une ancienne employée\, déterminée et pleine de ressources\, revient pour leur prêter main‑forte et raviver l’espoir. \n  \nComédiennes et comédiens : \n\nSabrina Rhéaume\nJulie Grenier\nChantal Bouchard\nMarie-Claude Dubeau\nOdette Harvey\nJocelyne Bélair\nPaméla B.Steen\nJean Camden\nDenis Beloin\nGuy Bilodeau\nStéphanie St-Pierre\nAngèle Cayer\nSteven Boldu
URL:https://ressourcescoaticook.com/evenement/les-sceneux-du-pavillon-piece-de-theatre-la-passe-du-cochon-qui-tousse/2026-05-16/
LOCATION:Pavillon des arts et de la culture de Coaticook\, 116 Rue Wellington\, Coaticook\, Qc\, J1A 1K1\, Canada
CATEGORIES:En présence
ATTACH;FMTTYPE=image/jpeg:https://ressourcescoaticook.com/wp-content/uploads/2026/04/Affiche-promotionnelle-mai-2026-1.jpg
GEO:45.1341267;-71.8038986
X-APPLE-STRUCTURED-LOCATION;VALUE=URI;X-ADDRESS=Pavillon des arts et de la culture de Coaticook 116 Rue Wellington Coaticook Qc J1A 1K1 Canada;X-APPLE-RADIUS=500;X-TITLE=116 Rue Wellington:geo:-71.8038986,45.1341267
END:VEVENT
BEGIN:VEVENT
DTSTART;TZID=America/Toronto:20260517T100000
DTEND;TZID=America/Toronto:20260517T140000
DTSTAMP:20260422T090319
CREATED:20260421T202952Z
LAST-MODIFIED:20260421T202952Z
UID:10009805-1779012000-1779026400@ressourcescoaticook.com
SUMMARY:Portes Ouvertes GRIS Estrie
DESCRIPTION:Portes Ouvertes chez GRIS Estrie\nLe 17 mai prochain\, de 10 h à 14 h\, GRIS Estrie vous invite au journée Portes Ouvertes! \nOrganisé dans le cadre de la Journée internationale contre l’homophobie\, la transphobie et la biphobie\, et aussi dans le mois de la jeunesse Sherbrookoise\, cet événement est une occasion privilégiée de tisser des liens et de découvrir la richesse de nos ressources locales. \nAu programme :\nBrunch gratuit; Ateliers de Zines\, de macarons\, et sur l’histoire Queer; Station de bulles et craies dehors et aussi de rencontré d’autre organisme communautaire.  \nQue vous soyez un organisme partenaire ou simplement curieux d’en savoir plus sur l’implication de GRIS Estrie\, nous vous attendons en grand nombre pour célébrer la diversité et l’inclusion!
URL:https://ressourcescoaticook.com/evenement/portes-ouvertes-gris-estrie/
LOCATION:1255 rue Daniel\, Sherbrooke\, porte 12\, 1255 rue Daniel\, Sherbrooke\, Québec\, J1H5X3\, Canada
CATEGORIES:En présence
ATTACH;FMTTYPE=image/jpeg:https://ressourcescoaticook.com/wp-content/uploads/2026/04/Portes-Ouvertes-Banner-scaled.jpg
ORGANIZER;CN="GRIS Estrie":MAILTO:info@grisestrie.org
END:VEVENT
BEGIN:VEVENT
DTSTART;TZID=America/Toronto:20260519T093000
DTEND;TZID=America/Toronto:20260519T113000
DTSTAMP:20260422T090319
CREATED:20250430T145858Z
LAST-MODIFIED:20250430T145858Z
UID:10007711-1779183000-1779190200@ressourcescoaticook.com
SUMMARY:Café Parent'Jase
DESCRIPTION:Venez prendre un bon café et échanger sur différentes thématiques! \nLe Parent-Jase c’est le rendez-vous hebdomadaire des parents! C’est aussi un espace d’échange et dialogue où les familles peuvent discuter librement sans se sentir jugées. Au menu : discussions sur divers sujets entourant la parentalité\, conférences\, ateliers créatifs et de croissance personnelle\, cuisines… suivez-nous sur Facebook pour en savoir plus! \nHoraire: mardi 9h30 à 11h30\nLieu: Maison de la famille 50\, rue Court\nTarif: gratuit\, café inclus!
URL:https://ressourcescoaticook.com/evenement/cafe-parentjase-2/2026-05-19/
LOCATION:Maison de la famille MRC de Coaticook\, 50 rue Court\, Coaticook\, Québec\, J1A 1L1\, Canada
ATTACH;FMTTYPE=image/png:https://ressourcescoaticook.com/wp-content/uploads/2025/04/parent-jase-1660759872-e1746025117791.png
END:VEVENT
BEGIN:VEVENT
DTSTART;TZID=America/Toronto:20260520T130000
DTEND;TZID=America/Toronto:20260520T160000
DTSTAMP:20260422T090319
CREATED:20250827T180515Z
LAST-MODIFIED:20250827T180515Z
UID:10008701-1779282000-1779292800@ressourcescoaticook.com
SUMMARY:Jeux du mercredi
DESCRIPTION:Jeux et activités tout l’après-midi\nPossibilité de prendre votre carte FADOQ sur place\nACTIVITÉS GRATUITES ET COLLATIONS\nBIENVENUE\nà tous les membres FADOQ !!!\n***Prenez note que de participer ou s’inscrire à une activité\nconstitue une autorisation de diffusion des photos\nou vidéos de l’activité par le club FADOQ-Coaticook.
URL:https://ressourcescoaticook.com/evenement/jeux-du-mercredi-12/
LOCATION:Centre communautaire de Coaticook (Élie-Carrier)\, 464 rue Merrill\, Coaticook\, Québec\, J1A 1X5
ATTACH;FMTTYPE=image/png:https://ressourcescoaticook.com/wp-content/uploads/2025/08/Jeux-mercredi.png
ORGANIZER;CN="FADOQ Coaticook":MAILTO:info.coaticook@fadoqestrie.ca
GEO:45.1336856;-71.8039462
X-APPLE-STRUCTURED-LOCATION;VALUE=URI;X-ADDRESS=Centre communautaire de Coaticook (Élie-Carrier) 464 rue Merrill Coaticook Québec J1A 1X5;X-APPLE-RADIUS=500;X-TITLE=464 rue Merrill:geo:-71.8039462,45.1336856
END:VEVENT
BEGIN:VEVENT
DTSTART;TZID=America/Toronto:20260521T190000
DTEND;TZID=America/Toronto:20260521T220000
DTSTAMP:20260422T090319
CREATED:20250827T140553Z
LAST-MODIFIED:20250827T140553Z
UID:10008650-1779390000-1779400800@ressourcescoaticook.com
SUMMARY:Bingo FADOQ Coaticook
DESCRIPTION:
URL:https://ressourcescoaticook.com/evenement/bingo-fadoq-coaticook-16/
LOCATION:Centre communautaire de Coaticook (Élie-Carrier)\, 464 rue Merrill\, Coaticook\, Québec\, J1A 1X5
ATTACH;FMTTYPE=image/jpeg:https://ressourcescoaticook.com/wp-content/uploads/2025/08/Bingo-FADOQ-scaled.jpg
ORGANIZER;CN="FADOQ Coaticook":MAILTO:info.coaticook@fadoqestrie.ca
GEO:45.1336856;-71.8039462
X-APPLE-STRUCTURED-LOCATION;VALUE=URI;X-ADDRESS=Centre communautaire de Coaticook (Élie-Carrier) 464 rue Merrill Coaticook Québec J1A 1X5;X-APPLE-RADIUS=500;X-TITLE=464 rue Merrill:geo:-71.8039462,45.1336856
END:VEVENT
BEGIN:VEVENT
DTSTART;TZID=America/Toronto:20260522T093000
DTEND;TZID=America/Toronto:20260522T110000
DTSTAMP:20260422T090319
CREATED:20260106T183756Z
LAST-MODIFIED:20260303T163807Z
UID:10009067-1779442200-1779447600@ressourcescoaticook.com
SUMMARY:Ludi-mini
DESCRIPTION:Ludi-mini est le moment parfait pour venir profiter de notre aire de jeux avec vos enfants\, rencontrer d’autres parents\, jaser avec les intervenantes-familles et manger une bonne collation. Au plaisir de vous y voir ! \nDe 9 h 30 à 11 h tous les vendredis
URL:https://ressourcescoaticook.com/evenement/ludi-mini/2026-05-22/
LOCATION:Maison de la famille MRC de Coaticook\, 50 rue Court\, Coaticook\, Québec\, J1A 1L1\, Canada
END:VEVENT
BEGIN:VEVENT
DTSTART;TZID=America/Toronto:20260523T100000
DTEND;TZID=America/Toronto:20260523T113000
DTSTAMP:20260422T090319
CREATED:20250605T194734Z
LAST-MODIFIED:20250605T194734Z
UID:10008178-1779530400-1779535800@ressourcescoaticook.com
SUMMARY:Heure du conte
DESCRIPTION:Chaque samedi à 10h\, c’est l’heure du conte à la bibliothèque! \nEn compagne de Mégane\, les jeunes assistent à l’heure du conte et bricolent sous un thème qui change chaque semaine. \nC’est gratuit et il n’y a aucune inscription nécessaire…
URL:https://ressourcescoaticook.com/evenement/heure-du-conte-5/2026-05-23/
LOCATION:Bibliothèque Françoise-Maurice de Coaticook\, 34\, rue Main Est\, Coaticook\, Québec\, J1A 2B3\, Canada
ATTACH;FMTTYPE=image/png:https://ressourcescoaticook.com/wp-content/uploads/2025/06/Heure-du-conte_FB-940-x-600-px-940-x-450-px-Depliant-a-trois-volets.png
GEO:45.1324382;-71.8046165
X-APPLE-STRUCTURED-LOCATION;VALUE=URI;X-ADDRESS=Bibliothèque Françoise-Maurice de Coaticook 34 rue Main Est Coaticook Québec J1A 2B3 Canada;X-APPLE-RADIUS=500;X-TITLE=34\, rue Main Est:geo:-71.8046165,45.1324382
END:VEVENT
BEGIN:VEVENT
DTSTART;TZID=America/Toronto:20260527T130000
DTEND;TZID=America/Toronto:20260527T160000
DTSTAMP:20260422T090319
CREATED:20250827T180537Z
LAST-MODIFIED:20250827T180537Z
UID:10008702-1779886800-1779897600@ressourcescoaticook.com
SUMMARY:Jeux du mercredi
DESCRIPTION:Jeux et activités tout l’après-midi\nPossibilité de prendre votre carte FADOQ sur place\nACTIVITÉS GRATUITES ET COLLATIONS\nBIENVENUE\nà tous les membres FADOQ !!!\n***Prenez note que de participer ou s’inscrire à une activité\nconstitue une autorisation de diffusion des photos\nou vidéos de l’activité par le club FADOQ-Coaticook.
URL:https://ressourcescoaticook.com/evenement/jeux-du-mercredi-13/
LOCATION:Centre communautaire de Coaticook (Élie-Carrier)\, 464 rue Merrill\, Coaticook\, Québec\, J1A 1X5
ATTACH;FMTTYPE=image/png:https://ressourcescoaticook.com/wp-content/uploads/2025/08/Jeux-mercredi.png
ORGANIZER;CN="FADOQ Coaticook":MAILTO:info.coaticook@fadoqestrie.ca
GEO:45.1336856;-71.8039462
X-APPLE-STRUCTURED-LOCATION;VALUE=URI;X-ADDRESS=Centre communautaire de Coaticook (Élie-Carrier) 464 rue Merrill Coaticook Québec J1A 1X5;X-APPLE-RADIUS=500;X-TITLE=464 rue Merrill:geo:-71.8039462,45.1336856
END:VEVENT
BEGIN:VEVENT
DTSTART;TZID=America/Toronto:20260529T093000
DTEND;TZID=America/Toronto:20260529T110000
DTSTAMP:20260422T090319
CREATED:20260106T183756Z
LAST-MODIFIED:20260303T163807Z
UID:10009068-1780047000-1780052400@ressourcescoaticook.com
SUMMARY:Ludi-mini
DESCRIPTION:Ludi-mini est le moment parfait pour venir profiter de notre aire de jeux avec vos enfants\, rencontrer d’autres parents\, jaser avec les intervenantes-familles et manger une bonne collation. Au plaisir de vous y voir ! \nDe 9 h 30 à 11 h tous les vendredis
URL:https://ressourcescoaticook.com/evenement/ludi-mini/2026-05-29/
LOCATION:Maison de la famille MRC de Coaticook\, 50 rue Court\, Coaticook\, Québec\, J1A 1L1\, Canada
END:VEVENT
BEGIN:VEVENT
DTSTART;TZID=America/Toronto:20260530T100000
DTEND;TZID=America/Toronto:20260530T113000
DTSTAMP:20260422T090319
CREATED:20250605T194734Z
LAST-MODIFIED:20250605T194734Z
UID:10008179-1780135200-1780140600@ressourcescoaticook.com
SUMMARY:Heure du conte
DESCRIPTION:Chaque samedi à 10h\, c’est l’heure du conte à la bibliothèque! \nEn compagne de Mégane\, les jeunes assistent à l’heure du conte et bricolent sous un thème qui change chaque semaine. \nC’est gratuit et il n’y a aucune inscription nécessaire…
URL:https://ressourcescoaticook.com/evenement/heure-du-conte-5/2026-05-30/
LOCATION:Bibliothèque Françoise-Maurice de Coaticook\, 34\, rue Main Est\, Coaticook\, Québec\, J1A 2B3\, Canada
ATTACH;FMTTYPE=image/png:https://ressourcescoaticook.com/wp-content/uploads/2025/06/Heure-du-conte_FB-940-x-600-px-940-x-450-px-Depliant-a-trois-volets.png
GEO:45.1324382;-71.8046165
X-APPLE-STRUCTURED-LOCATION;VALUE=URI;X-ADDRESS=Bibliothèque Françoise-Maurice de Coaticook 34 rue Main Est Coaticook Québec J1A 2B3 Canada;X-APPLE-RADIUS=500;X-TITLE=34\, rue Main Est:geo:-71.8046165,45.1324382
END:VEVENT
END:VCALENDAR