BEGIN:VCALENDAR
VERSION:2.0
PRODID:-//Répertoire d’organismes et associations communautaires de la région de Coaticook - ECPv6.15.20//NONSGML v1.0//EN
CALSCALE:GREGORIAN
METHOD:PUBLISH
X-WR-CALNAME:Répertoire d’organismes et associations communautaires de la région de Coaticook
X-ORIGINAL-URL:https://ressourcescoaticook.com
X-WR-CALDESC:Évènements pour Répertoire d’organismes et associations communautaires de la région de Coaticook
REFRESH-INTERVAL;VALUE=DURATION:PT1H
X-Robots-Tag:noindex
X-PUBLISHED-TTL:PT1H
BEGIN:VTIMEZONE
TZID:America/Toronto
BEGIN:DAYLIGHT
TZOFFSETFROM:-0500
TZOFFSETTO:-0400
TZNAME:EDT
DTSTART:20250309T070000
END:DAYLIGHT
BEGIN:STANDARD
TZOFFSETFROM:-0400
TZOFFSETTO:-0500
TZNAME:EST
DTSTART:20251102T060000
END:STANDARD
BEGIN:DAYLIGHT
TZOFFSETFROM:-0500
TZOFFSETTO:-0400
TZNAME:EDT
DTSTART:20260308T070000
END:DAYLIGHT
BEGIN:STANDARD
TZOFFSETFROM:-0400
TZOFFSETTO:-0500
TZNAME:EST
DTSTART:20261101T060000
END:STANDARD
BEGIN:DAYLIGHT
TZOFFSETFROM:-0500
TZOFFSETTO:-0400
TZNAME:EDT
DTSTART:20270314T070000
END:DAYLIGHT
BEGIN:STANDARD
TZOFFSETFROM:-0400
TZOFFSETTO:-0500
TZNAME:EST
DTSTART:20271107T060000
END:STANDARD
END:VTIMEZONE
BEGIN:VEVENT
DTSTART;TZID=America/Toronto:20260603T130000
DTEND;TZID=America/Toronto:20260603T164500
DTSTAMP:20260422T103337
CREATED:20250827T140143Z
LAST-MODIFIED:20250827T140143Z
UID:10008646-1780491600-1780505100@ressourcescoaticook.com
SUMMARY:Jeux FADOQ
DESCRIPTION:
URL:https://ressourcescoaticook.com/evenement/jeux-fadoq-15/
LOCATION:Centre communautaire de Coaticook (Élie-Carrier)\, 464 rue Merrill\, Coaticook\, Québec\, J1A 1X5
ATTACH;FMTTYPE=image/png:https://ressourcescoaticook.com/wp-content/uploads/2025/08/Jeux-FADOQ.png
ORGANIZER;CN="FADOQ Coaticook":MAILTO:info.coaticook@fadoqestrie.ca
GEO:45.1336856;-71.8039462
X-APPLE-STRUCTURED-LOCATION;VALUE=URI;X-ADDRESS=Centre communautaire de Coaticook (Élie-Carrier) 464 rue Merrill Coaticook Québec J1A 1X5;X-APPLE-RADIUS=500;X-TITLE=464 rue Merrill:geo:-71.8039462,45.1336856
END:VEVENT
BEGIN:VEVENT
DTSTART;TZID=America/Toronto:20260604T170000
DTEND;TZID=America/Toronto:20260604T210000
DTSTAMP:20260422T103337
CREATED:20260420T155747Z
LAST-MODIFIED:20260420T155747Z
UID:10009434-1780592400-1780606800@ressourcescoaticook.com
SUMMARY:Soirée Accords bières et bouffe
DESCRIPTION:La Chambre de commerce et d’industrie de la région de Coaticook (CCIRC) est heureuse de vous inviter à la Soirée Accords Bières et Bouffe 2026\, un événement incontournable pour découvrir et savourer les produits locaux dans une ambiance conviviale et décontractée. Cette soirée sera l’occasion idéale de déguster une sélection de bières locales et de bouchées gourmandes\, parfaitement assorties pour éveiller vos sens. \nLes entrepreneurs et professionnels de la région auront l’opportunité de se retrouver\, de réseauter et d’échanger tout en célébrant la diversité et la qualité exceptionnelle des produits du terroir de Coaticook et de ses environs. L’événement se déroulera dans une atmosphère chaleureuse\, propice à des rencontres enrichissantes et à la convivialité. \nNous avons hâte de vous retrouver pour cette soirée unique!
URL:https://ressourcescoaticook.com/evenement/soiree-accords-bieres-et-bouffe/
LOCATION:Verger le Gros Pierre\, 6335 Rte Louis-S.-Saint-Laurent\,\, Compton\, québec\, Canada
CATEGORIES:En présence
ATTACH;FMTTYPE=image/png:https://ressourcescoaticook.com/wp-content/uploads/2026/04/VISUEL-SABB26.png
ORGANIZER;CN="CCIRC":MAILTO:info@ccircoaticook.ca
END:VEVENT
BEGIN:VEVENT
DTSTART;TZID=America/Toronto:20260604T190000
DTEND;TZID=America/Toronto:20260604T220000
DTSTAMP:20260422T103337
CREATED:20250827T140620Z
LAST-MODIFIED:20250827T140620Z
UID:10008651-1780599600-1780610400@ressourcescoaticook.com
SUMMARY:Bingo FADOQ Coaticook
DESCRIPTION:
URL:https://ressourcescoaticook.com/evenement/bingo-fadoq-coaticook-17/
LOCATION:Centre communautaire de Coaticook (Élie-Carrier)\, 464 rue Merrill\, Coaticook\, Québec\, J1A 1X5
ATTACH;FMTTYPE=image/jpeg:https://ressourcescoaticook.com/wp-content/uploads/2025/08/Bingo-FADOQ-scaled.jpg
ORGANIZER;CN="FADOQ Coaticook":MAILTO:info.coaticook@fadoqestrie.ca
GEO:45.1336856;-71.8039462
X-APPLE-STRUCTURED-LOCATION;VALUE=URI;X-ADDRESS=Centre communautaire de Coaticook (Élie-Carrier) 464 rue Merrill Coaticook Québec J1A 1X5;X-APPLE-RADIUS=500;X-TITLE=464 rue Merrill:geo:-71.8039462,45.1336856
END:VEVENT
BEGIN:VEVENT
DTSTART;TZID=America/Toronto:20260605T093000
DTEND;TZID=America/Toronto:20260605T110000
DTSTAMP:20260422T103337
CREATED:20260106T183756Z
LAST-MODIFIED:20260303T163807Z
UID:10009069-1780651800-1780657200@ressourcescoaticook.com
SUMMARY:Ludi-mini
DESCRIPTION:Ludi-mini est le moment parfait pour venir profiter de notre aire de jeux avec vos enfants\, rencontrer d’autres parents\, jaser avec les intervenantes-familles et manger une bonne collation. Au plaisir de vous y voir ! \nDe 9 h 30 à 11 h tous les vendredis
URL:https://ressourcescoaticook.com/evenement/ludi-mini/2026-06-05/
LOCATION:Maison de la famille MRC de Coaticook\, 50 rue Court\, Coaticook\, Québec\, J1A 1L1\, Canada
END:VEVENT
BEGIN:VEVENT
DTSTART;TZID=America/Toronto:20260606T100000
DTEND;TZID=America/Toronto:20260606T113000
DTSTAMP:20260422T103337
CREATED:20250605T194734Z
LAST-MODIFIED:20250605T194734Z
UID:10008180-1780740000-1780745400@ressourcescoaticook.com
SUMMARY:Heure du conte
DESCRIPTION:Chaque samedi à 10h\, c’est l’heure du conte à la bibliothèque! \nEn compagne de Mégane\, les jeunes assistent à l’heure du conte et bricolent sous un thème qui change chaque semaine. \nC’est gratuit et il n’y a aucune inscription nécessaire…
URL:https://ressourcescoaticook.com/evenement/heure-du-conte-5/2026-06-06/
LOCATION:Bibliothèque Françoise-Maurice de Coaticook\, 34\, rue Main Est\, Coaticook\, Québec\, J1A 2B3\, Canada
ATTACH;FMTTYPE=image/png:https://ressourcescoaticook.com/wp-content/uploads/2025/06/Heure-du-conte_FB-940-x-600-px-940-x-450-px-Depliant-a-trois-volets.png
GEO:45.1324382;-71.8046165
X-APPLE-STRUCTURED-LOCATION;VALUE=URI;X-ADDRESS=Bibliothèque Françoise-Maurice de Coaticook 34 rue Main Est Coaticook Québec J1A 2B3 Canada;X-APPLE-RADIUS=500;X-TITLE=34\, rue Main Est:geo:-71.8046165,45.1324382
END:VEVENT
BEGIN:VEVENT
DTSTART;TZID=America/Toronto:20260610T130000
DTEND;TZID=America/Toronto:20260610T160000
DTSTAMP:20260422T103337
CREATED:20250827T180108Z
LAST-MODIFIED:20250827T180108Z
UID:10008698-1781096400-1781107200@ressourcescoaticook.com
SUMMARY:Jeux du mercredi
DESCRIPTION:Jeux et activités tout l’après-midi\nPossibilité de prendre votre carte FADOQ sur place\nACTIVITÉS GRATUITES ET COLLATIONS\nBIENVENUE\nà tous les membres FADOQ !!!\n***Prenez note que de participer ou s’inscrire à une activité\nconstitue une autorisation de diffusion des photos\nou vidéos de l’activité par le club FADOQ-Coaticook.
URL:https://ressourcescoaticook.com/evenement/jeux-du-mercredi-9/
LOCATION:Centre communautaire de Coaticook (Élie-Carrier)\, 464 rue Merrill\, Coaticook\, Québec\, J1A 1X5
ATTACH;FMTTYPE=image/png:https://ressourcescoaticook.com/wp-content/uploads/2025/08/Jeux-mercredi.png
ORGANIZER;CN="FADOQ Coaticook":MAILTO:info.coaticook@fadoqestrie.ca
GEO:45.1336856;-71.8039462
X-APPLE-STRUCTURED-LOCATION;VALUE=URI;X-ADDRESS=Centre communautaire de Coaticook (Élie-Carrier) 464 rue Merrill Coaticook Québec J1A 1X5;X-APPLE-RADIUS=500;X-TITLE=464 rue Merrill:geo:-71.8039462,45.1336856
END:VEVENT
BEGIN:VEVENT
DTSTART;TZID=America/Toronto:20260612T093000
DTEND;TZID=America/Toronto:20260612T110000
DTSTAMP:20260422T103337
CREATED:20260106T183756Z
LAST-MODIFIED:20260303T163807Z
UID:10009070-1781256600-1781262000@ressourcescoaticook.com
SUMMARY:Ludi-mini
DESCRIPTION:Ludi-mini est le moment parfait pour venir profiter de notre aire de jeux avec vos enfants\, rencontrer d’autres parents\, jaser avec les intervenantes-familles et manger une bonne collation. Au plaisir de vous y voir ! \nDe 9 h 30 à 11 h tous les vendredis
URL:https://ressourcescoaticook.com/evenement/ludi-mini/2026-06-12/
LOCATION:Maison de la famille MRC de Coaticook\, 50 rue Court\, Coaticook\, Québec\, J1A 1L1\, Canada
END:VEVENT
BEGIN:VEVENT
DTSTART;TZID=America/Toronto:20260613T100000
DTEND;TZID=America/Toronto:20260613T113000
DTSTAMP:20260422T103337
CREATED:20250605T194734Z
LAST-MODIFIED:20250605T194734Z
UID:10008181-1781344800-1781350200@ressourcescoaticook.com
SUMMARY:Heure du conte
DESCRIPTION:Chaque samedi à 10h\, c’est l’heure du conte à la bibliothèque! \nEn compagne de Mégane\, les jeunes assistent à l’heure du conte et bricolent sous un thème qui change chaque semaine. \nC’est gratuit et il n’y a aucune inscription nécessaire…
URL:https://ressourcescoaticook.com/evenement/heure-du-conte-5/2026-06-13/
LOCATION:Bibliothèque Françoise-Maurice de Coaticook\, 34\, rue Main Est\, Coaticook\, Québec\, J1A 2B3\, Canada
ATTACH;FMTTYPE=image/png:https://ressourcescoaticook.com/wp-content/uploads/2025/06/Heure-du-conte_FB-940-x-600-px-940-x-450-px-Depliant-a-trois-volets.png
GEO:45.1324382;-71.8046165
X-APPLE-STRUCTURED-LOCATION;VALUE=URI;X-ADDRESS=Bibliothèque Françoise-Maurice de Coaticook 34 rue Main Est Coaticook Québec J1A 2B3 Canada;X-APPLE-RADIUS=500;X-TITLE=34\, rue Main Est:geo:-71.8046165,45.1324382
END:VEVENT
BEGIN:VEVENT
DTSTART;TZID=America/Toronto:20260617T120100
DTEND;TZID=America/Toronto:20260617T131600
DTSTAMP:20260422T103337
CREATED:20260119T191159Z
LAST-MODIFIED:20260119T191159Z
UID:10009369-1781697660-1781702160@ressourcescoaticook.com
SUMMARY:RDV Production primaire
DESCRIPTION:Les «Rendez-vous Production primaire» sont un espace d’échange et d’interaction pour les acteurs des milieux agricole\, sylvicole\, acéricole et du milieu des affaires\, de la gestion et de l’entrepreneuriat de la région de Coaticook: Dans une formule détendue autour d’un dîner\, les participants sont invités à partager ou discuter de tout sujet relié à la pratique des affaires dans leur(s) secteur(s) d’activité(s). \nMembre de la CCIRC : 34\,49 $ Taxes incluses\nnon-membre 51\,74$\nAccès à l’événement avec un dîner complet
URL:https://ressourcescoaticook.com/evenement/rdv-production-primaire/2026-06-17/
LOCATION:Salle l’Épervier de Coaticook
ATTACH;FMTTYPE=image/png:https://ressourcescoaticook.com/wp-content/uploads/2026/01/rdv-PP-logo-2025.png
END:VEVENT
BEGIN:VEVENT
DTSTART;TZID=America/Toronto:20260617T130000
DTEND;TZID=America/Toronto:20260617T160000
DTSTAMP:20260422T103337
CREATED:20250827T180134Z
LAST-MODIFIED:20250827T180134Z
UID:10008699-1781701200-1781712000@ressourcescoaticook.com
SUMMARY:Jeux du mercredi
DESCRIPTION:Jeux et activités tout l’après-midi\nPossibilité de prendre votre carte FADOQ sur place\nACTIVITÉS GRATUITES ET COLLATIONS\nBIENVENUE\nà tous les membres FADOQ !!!\n***Prenez note que de participer ou s’inscrire à une activité\nconstitue une autorisation de diffusion des photos\nou vidéos de l’activité par le club FADOQ-Coaticook.
URL:https://ressourcescoaticook.com/evenement/jeux-du-mercredi-10/
LOCATION:Centre communautaire de Coaticook (Élie-Carrier)\, 464 rue Merrill\, Coaticook\, Québec\, J1A 1X5
ATTACH;FMTTYPE=image/png:https://ressourcescoaticook.com/wp-content/uploads/2025/08/Jeux-mercredi.png
ORGANIZER;CN="FADOQ Coaticook":MAILTO:info.coaticook@fadoqestrie.ca
GEO:45.1336856;-71.8039462
X-APPLE-STRUCTURED-LOCATION;VALUE=URI;X-ADDRESS=Centre communautaire de Coaticook (Élie-Carrier) 464 rue Merrill Coaticook Québec J1A 1X5;X-APPLE-RADIUS=500;X-TITLE=464 rue Merrill:geo:-71.8039462,45.1336856
END:VEVENT
BEGIN:VEVENT
DTSTART;TZID=America/Toronto:20260618T190000
DTEND;TZID=America/Toronto:20260618T220000
DTSTAMP:20260422T103337
CREATED:20250827T140647Z
LAST-MODIFIED:20250827T140647Z
UID:10008652-1781809200-1781820000@ressourcescoaticook.com
SUMMARY:Bingo FADOQ Coaticook
DESCRIPTION:
URL:https://ressourcescoaticook.com/evenement/bingo-fadoq-coaticook-18/
LOCATION:Centre communautaire de Coaticook (Élie-Carrier)\, 464 rue Merrill\, Coaticook\, Québec\, J1A 1X5
ATTACH;FMTTYPE=image/jpeg:https://ressourcescoaticook.com/wp-content/uploads/2025/08/Bingo-FADOQ-scaled.jpg
ORGANIZER;CN="FADOQ Coaticook":MAILTO:info.coaticook@fadoqestrie.ca
GEO:45.1336856;-71.8039462
X-APPLE-STRUCTURED-LOCATION;VALUE=URI;X-ADDRESS=Centre communautaire de Coaticook (Élie-Carrier) 464 rue Merrill Coaticook Québec J1A 1X5;X-APPLE-RADIUS=500;X-TITLE=464 rue Merrill:geo:-71.8039462,45.1336856
END:VEVENT
BEGIN:VEVENT
DTSTART;TZID=America/Toronto:20260619T093000
DTEND;TZID=America/Toronto:20260619T110000
DTSTAMP:20260422T103337
CREATED:20260106T183756Z
LAST-MODIFIED:20260303T163807Z
UID:10009071-1781861400-1781866800@ressourcescoaticook.com
SUMMARY:Ludi-mini
DESCRIPTION:Ludi-mini est le moment parfait pour venir profiter de notre aire de jeux avec vos enfants\, rencontrer d’autres parents\, jaser avec les intervenantes-familles et manger une bonne collation. Au plaisir de vous y voir ! \nDe 9 h 30 à 11 h tous les vendredis
URL:https://ressourcescoaticook.com/evenement/ludi-mini/2026-06-19/
LOCATION:Maison de la famille MRC de Coaticook\, 50 rue Court\, Coaticook\, Québec\, J1A 1L1\, Canada
END:VEVENT
BEGIN:VEVENT
DTSTART;TZID=America/Toronto:20260620T100000
DTEND;TZID=America/Toronto:20260620T113000
DTSTAMP:20260422T103337
CREATED:20250605T194734Z
LAST-MODIFIED:20250605T194734Z
UID:10008182-1781949600-1781955000@ressourcescoaticook.com
SUMMARY:Heure du conte
DESCRIPTION:Chaque samedi à 10h\, c’est l’heure du conte à la bibliothèque! \nEn compagne de Mégane\, les jeunes assistent à l’heure du conte et bricolent sous un thème qui change chaque semaine. \nC’est gratuit et il n’y a aucune inscription nécessaire…
URL:https://ressourcescoaticook.com/evenement/heure-du-conte-5/2026-06-20/
LOCATION:Bibliothèque Françoise-Maurice de Coaticook\, 34\, rue Main Est\, Coaticook\, Québec\, J1A 2B3\, Canada
ATTACH;FMTTYPE=image/png:https://ressourcescoaticook.com/wp-content/uploads/2025/06/Heure-du-conte_FB-940-x-600-px-940-x-450-px-Depliant-a-trois-volets.png
GEO:45.1324382;-71.8046165
X-APPLE-STRUCTURED-LOCATION;VALUE=URI;X-ADDRESS=Bibliothèque Françoise-Maurice de Coaticook 34 rue Main Est Coaticook Québec J1A 2B3 Canada;X-APPLE-RADIUS=500;X-TITLE=34\, rue Main Est:geo:-71.8046165,45.1324382
END:VEVENT
BEGIN:VEVENT
DTSTART;TZID=America/Toronto:20260626T093000
DTEND;TZID=America/Toronto:20260626T110000
DTSTAMP:20260422T103337
CREATED:20260106T183756Z
LAST-MODIFIED:20260303T163807Z
UID:10009072-1782466200-1782471600@ressourcescoaticook.com
SUMMARY:Ludi-mini
DESCRIPTION:Ludi-mini est le moment parfait pour venir profiter de notre aire de jeux avec vos enfants\, rencontrer d’autres parents\, jaser avec les intervenantes-familles et manger une bonne collation. Au plaisir de vous y voir ! \nDe 9 h 30 à 11 h tous les vendredis
URL:https://ressourcescoaticook.com/evenement/ludi-mini/2026-06-26/
LOCATION:Maison de la famille MRC de Coaticook\, 50 rue Court\, Coaticook\, Québec\, J1A 1L1\, Canada
END:VEVENT
BEGIN:VEVENT
DTSTART;TZID=America/Toronto:20260627T100000
DTEND;TZID=America/Toronto:20260627T113000
DTSTAMP:20260422T103337
CREATED:20250605T194734Z
LAST-MODIFIED:20250605T194734Z
UID:10008183-1782554400-1782559800@ressourcescoaticook.com
SUMMARY:Heure du conte
DESCRIPTION:Chaque samedi à 10h\, c’est l’heure du conte à la bibliothèque! \nEn compagne de Mégane\, les jeunes assistent à l’heure du conte et bricolent sous un thème qui change chaque semaine. \nC’est gratuit et il n’y a aucune inscription nécessaire…
URL:https://ressourcescoaticook.com/evenement/heure-du-conte-5/2026-06-27/
LOCATION:Bibliothèque Françoise-Maurice de Coaticook\, 34\, rue Main Est\, Coaticook\, Québec\, J1A 2B3\, Canada
ATTACH;FMTTYPE=image/png:https://ressourcescoaticook.com/wp-content/uploads/2025/06/Heure-du-conte_FB-940-x-600-px-940-x-450-px-Depliant-a-trois-volets.png
GEO:45.1324382;-71.8046165
X-APPLE-STRUCTURED-LOCATION;VALUE=URI;X-ADDRESS=Bibliothèque Françoise-Maurice de Coaticook 34 rue Main Est Coaticook Québec J1A 2B3 Canada;X-APPLE-RADIUS=500;X-TITLE=34\, rue Main Est:geo:-71.8046165,45.1324382
END:VEVENT
END:VCALENDAR