BEGIN:VCALENDAR
VERSION:2.0
PRODID:-//Répertoire d’organismes et associations communautaires de la région de Coaticook - ECPv6.15.20//NONSGML v1.0//EN
CALSCALE:GREGORIAN
METHOD:PUBLISH
X-WR-CALNAME:Répertoire d’organismes et associations communautaires de la région de Coaticook
X-ORIGINAL-URL:https://ressourcescoaticook.com
X-WR-CALDESC:Évènements pour Répertoire d’organismes et associations communautaires de la région de Coaticook
REFRESH-INTERVAL;VALUE=DURATION:PT1H
X-Robots-Tag:noindex
X-PUBLISHED-TTL:PT1H
BEGIN:VTIMEZONE
TZID:America/Toronto
BEGIN:DAYLIGHT
TZOFFSETFROM:-0500
TZOFFSETTO:-0400
TZNAME:EDT
DTSTART:20250309T070000
END:DAYLIGHT
BEGIN:STANDARD
TZOFFSETFROM:-0400
TZOFFSETTO:-0500
TZNAME:EST
DTSTART:20251102T060000
END:STANDARD
BEGIN:DAYLIGHT
TZOFFSETFROM:-0500
TZOFFSETTO:-0400
TZNAME:EDT
DTSTART:20260308T070000
END:DAYLIGHT
BEGIN:STANDARD
TZOFFSETFROM:-0400
TZOFFSETTO:-0500
TZNAME:EST
DTSTART:20261101T060000
END:STANDARD
BEGIN:DAYLIGHT
TZOFFSETFROM:-0500
TZOFFSETTO:-0400
TZNAME:EDT
DTSTART:20270314T070000
END:DAYLIGHT
BEGIN:STANDARD
TZOFFSETFROM:-0400
TZOFFSETTO:-0500
TZNAME:EST
DTSTART:20271107T060000
END:STANDARD
END:VTIMEZONE
BEGIN:VEVENT
DTSTART;TZID=America/Toronto:20260703T093000
DTEND;TZID=America/Toronto:20260703T110000
DTSTAMP:20260422T115626
CREATED:20260106T183756Z
LAST-MODIFIED:20260303T163807Z
UID:10009073-1783071000-1783076400@ressourcescoaticook.com
SUMMARY:Ludi-mini
DESCRIPTION:Ludi-mini est le moment parfait pour venir profiter de notre aire de jeux avec vos enfants\, rencontrer d’autres parents\, jaser avec les intervenantes-familles et manger une bonne collation. Au plaisir de vous y voir ! \nDe 9 h 30 à 11 h tous les vendredis
URL:https://ressourcescoaticook.com/evenement/ludi-mini/2026-07-03/
LOCATION:Maison de la famille MRC de Coaticook\, 50 rue Court\, Coaticook\, Québec\, J1A 1L1\, Canada
END:VEVENT
BEGIN:VEVENT
DTSTART;TZID=America/Toronto:20260704T100000
DTEND;TZID=America/Toronto:20260704T113000
DTSTAMP:20260422T115626
CREATED:20250605T194734Z
LAST-MODIFIED:20250605T194734Z
UID:10008184-1783159200-1783164600@ressourcescoaticook.com
SUMMARY:Heure du conte
DESCRIPTION:Chaque samedi à 10h\, c’est l’heure du conte à la bibliothèque! \nEn compagne de Mégane\, les jeunes assistent à l’heure du conte et bricolent sous un thème qui change chaque semaine. \nC’est gratuit et il n’y a aucune inscription nécessaire…
URL:https://ressourcescoaticook.com/evenement/heure-du-conte-5/2026-07-04/
LOCATION:Bibliothèque Françoise-Maurice de Coaticook\, 34\, rue Main Est\, Coaticook\, Québec\, J1A 2B3\, Canada
ATTACH;FMTTYPE=image/png:https://ressourcescoaticook.com/wp-content/uploads/2025/06/Heure-du-conte_FB-940-x-600-px-940-x-450-px-Depliant-a-trois-volets.png
GEO:45.1324382;-71.8046165
X-APPLE-STRUCTURED-LOCATION;VALUE=URI;X-ADDRESS=Bibliothèque Françoise-Maurice de Coaticook 34 rue Main Est Coaticook Québec J1A 2B3 Canada;X-APPLE-RADIUS=500;X-TITLE=34\, rue Main Est:geo:-71.8046165,45.1324382
END:VEVENT
BEGIN:VEVENT
DTSTART;TZID=America/Toronto:20260710T093000
DTEND;TZID=America/Toronto:20260710T110000
DTSTAMP:20260422T115626
CREATED:20260106T183756Z
LAST-MODIFIED:20260303T163807Z
UID:10009074-1783675800-1783681200@ressourcescoaticook.com
SUMMARY:Ludi-mini
DESCRIPTION:Ludi-mini est le moment parfait pour venir profiter de notre aire de jeux avec vos enfants\, rencontrer d’autres parents\, jaser avec les intervenantes-familles et manger une bonne collation. Au plaisir de vous y voir ! \nDe 9 h 30 à 11 h tous les vendredis
URL:https://ressourcescoaticook.com/evenement/ludi-mini/2026-07-10/
LOCATION:Maison de la famille MRC de Coaticook\, 50 rue Court\, Coaticook\, Québec\, J1A 1L1\, Canada
END:VEVENT
BEGIN:VEVENT
DTSTART;TZID=America/Toronto:20260711T100000
DTEND;TZID=America/Toronto:20260711T113000
DTSTAMP:20260422T115626
CREATED:20250605T194734Z
LAST-MODIFIED:20250605T194734Z
UID:10008185-1783764000-1783769400@ressourcescoaticook.com
SUMMARY:Heure du conte
DESCRIPTION:Chaque samedi à 10h\, c’est l’heure du conte à la bibliothèque! \nEn compagne de Mégane\, les jeunes assistent à l’heure du conte et bricolent sous un thème qui change chaque semaine. \nC’est gratuit et il n’y a aucune inscription nécessaire…
URL:https://ressourcescoaticook.com/evenement/heure-du-conte-5/2026-07-11/
LOCATION:Bibliothèque Françoise-Maurice de Coaticook\, 34\, rue Main Est\, Coaticook\, Québec\, J1A 2B3\, Canada
ATTACH;FMTTYPE=image/png:https://ressourcescoaticook.com/wp-content/uploads/2025/06/Heure-du-conte_FB-940-x-600-px-940-x-450-px-Depliant-a-trois-volets.png
GEO:45.1324382;-71.8046165
X-APPLE-STRUCTURED-LOCATION;VALUE=URI;X-ADDRESS=Bibliothèque Françoise-Maurice de Coaticook 34 rue Main Est Coaticook Québec J1A 2B3 Canada;X-APPLE-RADIUS=500;X-TITLE=34\, rue Main Est:geo:-71.8046165,45.1324382
END:VEVENT
BEGIN:VEVENT
DTSTART;TZID=America/Toronto:20260717T093000
DTEND;TZID=America/Toronto:20260717T110000
DTSTAMP:20260422T115626
CREATED:20260106T183756Z
LAST-MODIFIED:20260303T163807Z
UID:10009075-1784280600-1784286000@ressourcescoaticook.com
SUMMARY:Ludi-mini
DESCRIPTION:Ludi-mini est le moment parfait pour venir profiter de notre aire de jeux avec vos enfants\, rencontrer d’autres parents\, jaser avec les intervenantes-familles et manger une bonne collation. Au plaisir de vous y voir ! \nDe 9 h 30 à 11 h tous les vendredis
URL:https://ressourcescoaticook.com/evenement/ludi-mini/2026-07-17/
LOCATION:Maison de la famille MRC de Coaticook\, 50 rue Court\, Coaticook\, Québec\, J1A 1L1\, Canada
END:VEVENT
BEGIN:VEVENT
DTSTART;TZID=America/Toronto:20260718T100000
DTEND;TZID=America/Toronto:20260718T113000
DTSTAMP:20260422T115626
CREATED:20250605T194734Z
LAST-MODIFIED:20250605T194734Z
UID:10008186-1784368800-1784374200@ressourcescoaticook.com
SUMMARY:Heure du conte
DESCRIPTION:Chaque samedi à 10h\, c’est l’heure du conte à la bibliothèque! \nEn compagne de Mégane\, les jeunes assistent à l’heure du conte et bricolent sous un thème qui change chaque semaine. \nC’est gratuit et il n’y a aucune inscription nécessaire…
URL:https://ressourcescoaticook.com/evenement/heure-du-conte-5/2026-07-18/
LOCATION:Bibliothèque Françoise-Maurice de Coaticook\, 34\, rue Main Est\, Coaticook\, Québec\, J1A 2B3\, Canada
ATTACH;FMTTYPE=image/png:https://ressourcescoaticook.com/wp-content/uploads/2025/06/Heure-du-conte_FB-940-x-600-px-940-x-450-px-Depliant-a-trois-volets.png
GEO:45.1324382;-71.8046165
X-APPLE-STRUCTURED-LOCATION;VALUE=URI;X-ADDRESS=Bibliothèque Françoise-Maurice de Coaticook 34 rue Main Est Coaticook Québec J1A 2B3 Canada;X-APPLE-RADIUS=500;X-TITLE=34\, rue Main Est:geo:-71.8046165,45.1324382
END:VEVENT
BEGIN:VEVENT
DTSTART;TZID=America/Toronto:20260724T093000
DTEND;TZID=America/Toronto:20260724T110000
DTSTAMP:20260422T115626
CREATED:20260106T183756Z
LAST-MODIFIED:20260303T163807Z
UID:10009076-1784885400-1784890800@ressourcescoaticook.com
SUMMARY:Ludi-mini
DESCRIPTION:Ludi-mini est le moment parfait pour venir profiter de notre aire de jeux avec vos enfants\, rencontrer d’autres parents\, jaser avec les intervenantes-familles et manger une bonne collation. Au plaisir de vous y voir ! \nDe 9 h 30 à 11 h tous les vendredis
URL:https://ressourcescoaticook.com/evenement/ludi-mini/2026-07-24/
LOCATION:Maison de la famille MRC de Coaticook\, 50 rue Court\, Coaticook\, Québec\, J1A 1L1\, Canada
END:VEVENT
BEGIN:VEVENT
DTSTART;TZID=America/Toronto:20260725T100000
DTEND;TZID=America/Toronto:20260725T113000
DTSTAMP:20260422T115626
CREATED:20250605T194734Z
LAST-MODIFIED:20250605T194734Z
UID:10008187-1784973600-1784979000@ressourcescoaticook.com
SUMMARY:Heure du conte
DESCRIPTION:Chaque samedi à 10h\, c’est l’heure du conte à la bibliothèque! \nEn compagne de Mégane\, les jeunes assistent à l’heure du conte et bricolent sous un thème qui change chaque semaine. \nC’est gratuit et il n’y a aucune inscription nécessaire…
URL:https://ressourcescoaticook.com/evenement/heure-du-conte-5/2026-07-25/
LOCATION:Bibliothèque Françoise-Maurice de Coaticook\, 34\, rue Main Est\, Coaticook\, Québec\, J1A 2B3\, Canada
ATTACH;FMTTYPE=image/png:https://ressourcescoaticook.com/wp-content/uploads/2025/06/Heure-du-conte_FB-940-x-600-px-940-x-450-px-Depliant-a-trois-volets.png
GEO:45.1324382;-71.8046165
X-APPLE-STRUCTURED-LOCATION;VALUE=URI;X-ADDRESS=Bibliothèque Françoise-Maurice de Coaticook 34 rue Main Est Coaticook Québec J1A 2B3 Canada;X-APPLE-RADIUS=500;X-TITLE=34\, rue Main Est:geo:-71.8046165,45.1324382
END:VEVENT
BEGIN:VEVENT
DTSTART;TZID=America/Toronto:20260731T093000
DTEND;TZID=America/Toronto:20260731T110000
DTSTAMP:20260422T115626
CREATED:20260106T183756Z
LAST-MODIFIED:20260303T163807Z
UID:10009077-1785490200-1785495600@ressourcescoaticook.com
SUMMARY:Ludi-mini
DESCRIPTION:Ludi-mini est le moment parfait pour venir profiter de notre aire de jeux avec vos enfants\, rencontrer d’autres parents\, jaser avec les intervenantes-familles et manger une bonne collation. Au plaisir de vous y voir ! \nDe 9 h 30 à 11 h tous les vendredis
URL:https://ressourcescoaticook.com/evenement/ludi-mini/2026-07-31/
LOCATION:Maison de la famille MRC de Coaticook\, 50 rue Court\, Coaticook\, Québec\, J1A 1L1\, Canada
END:VEVENT
END:VCALENDAR