BEGIN:VCALENDAR
VERSION:2.0
PRODID:-//Répertoire d’organismes et associations communautaires de la région de Coaticook - ECPv6.15.20//NONSGML v1.0//EN
CALSCALE:GREGORIAN
METHOD:PUBLISH
X-ORIGINAL-URL:https://ressourcescoaticook.com
X-WR-CALDESC:Évènements pour Répertoire d’organismes et associations communautaires de la région de Coaticook
REFRESH-INTERVAL;VALUE=DURATION:PT1H
X-Robots-Tag:noindex
X-PUBLISHED-TTL:PT1H
BEGIN:VTIMEZONE
TZID:America/Toronto
BEGIN:DAYLIGHT
TZOFFSETFROM:-0500
TZOFFSETTO:-0400
TZNAME:EDT
DTSTART:20250309T070000
END:DAYLIGHT
BEGIN:STANDARD
TZOFFSETFROM:-0400
TZOFFSETTO:-0500
TZNAME:EST
DTSTART:20251102T060000
END:STANDARD
BEGIN:DAYLIGHT
TZOFFSETFROM:-0500
TZOFFSETTO:-0400
TZNAME:EDT
DTSTART:20260308T070000
END:DAYLIGHT
BEGIN:STANDARD
TZOFFSETFROM:-0400
TZOFFSETTO:-0500
TZNAME:EST
DTSTART:20261101T060000
END:STANDARD
BEGIN:DAYLIGHT
TZOFFSETFROM:-0500
TZOFFSETTO:-0400
TZNAME:EDT
DTSTART:20270314T070000
END:DAYLIGHT
BEGIN:STANDARD
TZOFFSETFROM:-0400
TZOFFSETTO:-0500
TZNAME:EST
DTSTART:20271107T060000
END:STANDARD
END:VTIMEZONE
BEGIN:VEVENT
DTSTART;TZID=America/Toronto:20261204T093000
DTEND;TZID=America/Toronto:20261204T110000
DTSTAMP:20260422T191730
CREATED:20260106T183756Z
LAST-MODIFIED:20260303T163807Z
UID:10009095-1796376600-1796382000@ressourcescoaticook.com
SUMMARY:Ludi-mini
DESCRIPTION:Ludi-mini est le moment parfait pour venir profiter de notre aire de jeux avec vos enfants\, rencontrer d’autres parents\, jaser avec les intervenantes-familles et manger une bonne collation. Au plaisir de vous y voir ! \nDe 9 h 30 à 11 h tous les vendredis
URL:https://ressourcescoaticook.com/evenement/ludi-mini/2026-12-04/
LOCATION:Maison de la famille MRC de Coaticook\, 50 rue Court\, Coaticook\, Québec\, J1A 1L1\, Canada
END:VEVENT
BEGIN:VEVENT
DTSTART;TZID=America/Toronto:20261205T100000
DTEND;TZID=America/Toronto:20261205T113000
DTSTAMP:20260422T191730
CREATED:20250605T194734Z
LAST-MODIFIED:20250605T194734Z
UID:10008206-1796464800-1796470200@ressourcescoaticook.com
SUMMARY:Heure du conte
DESCRIPTION:Chaque samedi à 10h\, c’est l’heure du conte à la bibliothèque! \nEn compagne de Mégane\, les jeunes assistent à l’heure du conte et bricolent sous un thème qui change chaque semaine. \nC’est gratuit et il n’y a aucune inscription nécessaire…
URL:https://ressourcescoaticook.com/evenement/heure-du-conte-5/2026-12-05/
LOCATION:Bibliothèque Françoise-Maurice de Coaticook\, 34\, rue Main Est\, Coaticook\, Québec\, J1A 2B3\, Canada
ATTACH;FMTTYPE=image/png:https://ressourcescoaticook.com/wp-content/uploads/2025/06/Heure-du-conte_FB-940-x-600-px-940-x-450-px-Depliant-a-trois-volets.png
GEO:45.1324382;-71.8046165
X-APPLE-STRUCTURED-LOCATION;VALUE=URI;X-ADDRESS=Bibliothèque Françoise-Maurice de Coaticook 34 rue Main Est Coaticook Québec J1A 2B3 Canada;X-APPLE-RADIUS=500;X-TITLE=34\, rue Main Est:geo:-71.8046165,45.1324382
END:VEVENT
BEGIN:VEVENT
DTSTART;TZID=America/Toronto:20261211T093000
DTEND;TZID=America/Toronto:20261211T110000
DTSTAMP:20260422T191730
CREATED:20260106T183756Z
LAST-MODIFIED:20260303T163807Z
UID:10009096-1796981400-1796986800@ressourcescoaticook.com
SUMMARY:Ludi-mini
DESCRIPTION:Ludi-mini est le moment parfait pour venir profiter de notre aire de jeux avec vos enfants\, rencontrer d’autres parents\, jaser avec les intervenantes-familles et manger une bonne collation. Au plaisir de vous y voir ! \nDe 9 h 30 à 11 h tous les vendredis
URL:https://ressourcescoaticook.com/evenement/ludi-mini/2026-12-11/
LOCATION:Maison de la famille MRC de Coaticook\, 50 rue Court\, Coaticook\, Québec\, J1A 1L1\, Canada
END:VEVENT
BEGIN:VEVENT
DTSTART;TZID=America/Toronto:20261212T100000
DTEND;TZID=America/Toronto:20261212T113000
DTSTAMP:20260422T191730
CREATED:20250605T194734Z
LAST-MODIFIED:20250605T194734Z
UID:10008207-1797069600-1797075000@ressourcescoaticook.com
SUMMARY:Heure du conte
DESCRIPTION:Chaque samedi à 10h\, c’est l’heure du conte à la bibliothèque! \nEn compagne de Mégane\, les jeunes assistent à l’heure du conte et bricolent sous un thème qui change chaque semaine. \nC’est gratuit et il n’y a aucune inscription nécessaire…
URL:https://ressourcescoaticook.com/evenement/heure-du-conte-5/2026-12-12/
LOCATION:Bibliothèque Françoise-Maurice de Coaticook\, 34\, rue Main Est\, Coaticook\, Québec\, J1A 2B3\, Canada
ATTACH;FMTTYPE=image/png:https://ressourcescoaticook.com/wp-content/uploads/2025/06/Heure-du-conte_FB-940-x-600-px-940-x-450-px-Depliant-a-trois-volets.png
GEO:45.1324382;-71.8046165
X-APPLE-STRUCTURED-LOCATION;VALUE=URI;X-ADDRESS=Bibliothèque Françoise-Maurice de Coaticook 34 rue Main Est Coaticook Québec J1A 2B3 Canada;X-APPLE-RADIUS=500;X-TITLE=34\, rue Main Est:geo:-71.8046165,45.1324382
END:VEVENT
BEGIN:VEVENT
DTSTART;TZID=America/Toronto:20261218T093000
DTEND;TZID=America/Toronto:20261218T110000
DTSTAMP:20260422T191730
CREATED:20260106T183756Z
LAST-MODIFIED:20260303T163807Z
UID:10009097-1797586200-1797591600@ressourcescoaticook.com
SUMMARY:Ludi-mini
DESCRIPTION:Ludi-mini est le moment parfait pour venir profiter de notre aire de jeux avec vos enfants\, rencontrer d’autres parents\, jaser avec les intervenantes-familles et manger une bonne collation. Au plaisir de vous y voir ! \nDe 9 h 30 à 11 h tous les vendredis
URL:https://ressourcescoaticook.com/evenement/ludi-mini/2026-12-18/
LOCATION:Maison de la famille MRC de Coaticook\, 50 rue Court\, Coaticook\, Québec\, J1A 1L1\, Canada
END:VEVENT
BEGIN:VEVENT
DTSTART;TZID=America/Toronto:20261219T100000
DTEND;TZID=America/Toronto:20261219T113000
DTSTAMP:20260422T191730
CREATED:20250605T194734Z
LAST-MODIFIED:20250605T194734Z
UID:10008208-1797674400-1797679800@ressourcescoaticook.com
SUMMARY:Heure du conte
DESCRIPTION:Chaque samedi à 10h\, c’est l’heure du conte à la bibliothèque! \nEn compagne de Mégane\, les jeunes assistent à l’heure du conte et bricolent sous un thème qui change chaque semaine. \nC’est gratuit et il n’y a aucune inscription nécessaire…
URL:https://ressourcescoaticook.com/evenement/heure-du-conte-5/2026-12-19/
LOCATION:Bibliothèque Françoise-Maurice de Coaticook\, 34\, rue Main Est\, Coaticook\, Québec\, J1A 2B3\, Canada
ATTACH;FMTTYPE=image/png:https://ressourcescoaticook.com/wp-content/uploads/2025/06/Heure-du-conte_FB-940-x-600-px-940-x-450-px-Depliant-a-trois-volets.png
GEO:45.1324382;-71.8046165
X-APPLE-STRUCTURED-LOCATION;VALUE=URI;X-ADDRESS=Bibliothèque Françoise-Maurice de Coaticook 34 rue Main Est Coaticook Québec J1A 2B3 Canada;X-APPLE-RADIUS=500;X-TITLE=34\, rue Main Est:geo:-71.8046165,45.1324382
END:VEVENT
BEGIN:VEVENT
DTSTART;TZID=America/Toronto:20261225T093000
DTEND;TZID=America/Toronto:20261225T110000
DTSTAMP:20260422T191730
CREATED:20260106T183756Z
LAST-MODIFIED:20260303T163807Z
UID:10009098-1798191000-1798196400@ressourcescoaticook.com
SUMMARY:Ludi-mini
DESCRIPTION:Ludi-mini est le moment parfait pour venir profiter de notre aire de jeux avec vos enfants\, rencontrer d’autres parents\, jaser avec les intervenantes-familles et manger une bonne collation. Au plaisir de vous y voir ! \nDe 9 h 30 à 11 h tous les vendredis
URL:https://ressourcescoaticook.com/evenement/ludi-mini/2026-12-25/
LOCATION:Maison de la famille MRC de Coaticook\, 50 rue Court\, Coaticook\, Québec\, J1A 1L1\, Canada
END:VEVENT
BEGIN:VEVENT
DTSTART;TZID=America/Toronto:20261226T100000
DTEND;TZID=America/Toronto:20261226T113000
DTSTAMP:20260422T191730
CREATED:20250605T194734Z
LAST-MODIFIED:20250605T194734Z
UID:10008209-1798279200-1798284600@ressourcescoaticook.com
SUMMARY:Heure du conte
DESCRIPTION:Chaque samedi à 10h\, c’est l’heure du conte à la bibliothèque! \nEn compagne de Mégane\, les jeunes assistent à l’heure du conte et bricolent sous un thème qui change chaque semaine. \nC’est gratuit et il n’y a aucune inscription nécessaire…
URL:https://ressourcescoaticook.com/evenement/heure-du-conte-5/2026-12-26/
LOCATION:Bibliothèque Françoise-Maurice de Coaticook\, 34\, rue Main Est\, Coaticook\, Québec\, J1A 2B3\, Canada
ATTACH;FMTTYPE=image/png:https://ressourcescoaticook.com/wp-content/uploads/2025/06/Heure-du-conte_FB-940-x-600-px-940-x-450-px-Depliant-a-trois-volets.png
GEO:45.1324382;-71.8046165
X-APPLE-STRUCTURED-LOCATION;VALUE=URI;X-ADDRESS=Bibliothèque Françoise-Maurice de Coaticook 34 rue Main Est Coaticook Québec J1A 2B3 Canada;X-APPLE-RADIUS=500;X-TITLE=34\, rue Main Est:geo:-71.8046165,45.1324382
END:VEVENT
END:VCALENDAR