BEGIN:VCALENDAR
VERSION:2.0
PRODID:-//Répertoire d’organismes et associations communautaires de la région de Coaticook - ECPv6.15.20//NONSGML v1.0//EN
CALSCALE:GREGORIAN
METHOD:PUBLISH
X-ORIGINAL-URL:https://ressourcescoaticook.com
X-WR-CALDESC:Évènements pour Répertoire d’organismes et associations communautaires de la région de Coaticook
REFRESH-INTERVAL;VALUE=DURATION:PT1H
X-Robots-Tag:noindex
X-PUBLISHED-TTL:PT1H
BEGIN:VTIMEZONE
TZID:America/Toronto
BEGIN:DAYLIGHT
TZOFFSETFROM:-0500
TZOFFSETTO:-0400
TZNAME:EDT
DTSTART:20260308T070000
END:DAYLIGHT
BEGIN:STANDARD
TZOFFSETFROM:-0400
TZOFFSETTO:-0500
TZNAME:EST
DTSTART:20261101T060000
END:STANDARD
BEGIN:DAYLIGHT
TZOFFSETFROM:-0500
TZOFFSETTO:-0400
TZNAME:EDT
DTSTART:20270314T070000
END:DAYLIGHT
BEGIN:STANDARD
TZOFFSETFROM:-0400
TZOFFSETTO:-0500
TZNAME:EST
DTSTART:20271107T060000
END:STANDARD
BEGIN:DAYLIGHT
TZOFFSETFROM:-0500
TZOFFSETTO:-0400
TZNAME:EDT
DTSTART:20280312T070000
END:DAYLIGHT
BEGIN:STANDARD
TZOFFSETFROM:-0400
TZOFFSETTO:-0500
TZNAME:EST
DTSTART:20281105T060000
END:STANDARD
END:VTIMEZONE
BEGIN:VEVENT
DTSTART;TZID=America/Toronto:20271001T093000
DTEND;TZID=America/Toronto:20271001T110000
DTSTAMP:20260423T093736
CREATED:20260106T183756Z
LAST-MODIFIED:20260303T163807Z
UID:10009138-1822383000-1822388400@ressourcescoaticook.com
SUMMARY:Ludi-mini
DESCRIPTION:Ludi-mini est le moment parfait pour venir profiter de notre aire de jeux avec vos enfants\, rencontrer d’autres parents\, jaser avec les intervenantes-familles et manger une bonne collation. Au plaisir de vous y voir ! \nDe 9 h 30 à 11 h tous les vendredis
URL:https://ressourcescoaticook.com/evenement/ludi-mini/2027-10-01/
LOCATION:Maison de la famille MRC de Coaticook\, 50 rue Court\, Coaticook\, Québec\, J1A 1L1\, Canada
END:VEVENT
BEGIN:VEVENT
DTSTART;TZID=America/Toronto:20271002T100000
DTEND;TZID=America/Toronto:20271002T113000
DTSTAMP:20260423T093736
CREATED:20250605T194734Z
LAST-MODIFIED:20250605T194734Z
UID:10008249-1822471200-1822476600@ressourcescoaticook.com
SUMMARY:Heure du conte
DESCRIPTION:Chaque samedi à 10h\, c’est l’heure du conte à la bibliothèque! \nEn compagne de Mégane\, les jeunes assistent à l’heure du conte et bricolent sous un thème qui change chaque semaine. \nC’est gratuit et il n’y a aucune inscription nécessaire…
URL:https://ressourcescoaticook.com/evenement/heure-du-conte-5/2027-10-02/
LOCATION:Bibliothèque Françoise-Maurice de Coaticook\, 34\, rue Main Est\, Coaticook\, Québec\, J1A 2B3\, Canada
ATTACH;FMTTYPE=image/png:https://ressourcescoaticook.com/wp-content/uploads/2025/06/Heure-du-conte_FB-940-x-600-px-940-x-450-px-Depliant-a-trois-volets.png
GEO:45.1324382;-71.8046165
X-APPLE-STRUCTURED-LOCATION;VALUE=URI;X-ADDRESS=Bibliothèque Françoise-Maurice de Coaticook 34 rue Main Est Coaticook Québec J1A 2B3 Canada;X-APPLE-RADIUS=500;X-TITLE=34\, rue Main Est:geo:-71.8046165,45.1324382
END:VEVENT
BEGIN:VEVENT
DTSTART;TZID=America/Toronto:20271008T093000
DTEND;TZID=America/Toronto:20271008T110000
DTSTAMP:20260423T093736
CREATED:20260106T183756Z
LAST-MODIFIED:20260303T163807Z
UID:10009139-1822987800-1822993200@ressourcescoaticook.com
SUMMARY:Ludi-mini
DESCRIPTION:Ludi-mini est le moment parfait pour venir profiter de notre aire de jeux avec vos enfants\, rencontrer d’autres parents\, jaser avec les intervenantes-familles et manger une bonne collation. Au plaisir de vous y voir ! \nDe 9 h 30 à 11 h tous les vendredis
URL:https://ressourcescoaticook.com/evenement/ludi-mini/2027-10-08/
LOCATION:Maison de la famille MRC de Coaticook\, 50 rue Court\, Coaticook\, Québec\, J1A 1L1\, Canada
END:VEVENT
BEGIN:VEVENT
DTSTART;TZID=America/Toronto:20271009T100000
DTEND;TZID=America/Toronto:20271009T113000
DTSTAMP:20260423T093736
CREATED:20250605T194734Z
LAST-MODIFIED:20250605T194734Z
UID:10008250-1823076000-1823081400@ressourcescoaticook.com
SUMMARY:Heure du conte
DESCRIPTION:Chaque samedi à 10h\, c’est l’heure du conte à la bibliothèque! \nEn compagne de Mégane\, les jeunes assistent à l’heure du conte et bricolent sous un thème qui change chaque semaine. \nC’est gratuit et il n’y a aucune inscription nécessaire…
URL:https://ressourcescoaticook.com/evenement/heure-du-conte-5/2027-10-09/
LOCATION:Bibliothèque Françoise-Maurice de Coaticook\, 34\, rue Main Est\, Coaticook\, Québec\, J1A 2B3\, Canada
ATTACH;FMTTYPE=image/png:https://ressourcescoaticook.com/wp-content/uploads/2025/06/Heure-du-conte_FB-940-x-600-px-940-x-450-px-Depliant-a-trois-volets.png
GEO:45.1324382;-71.8046165
X-APPLE-STRUCTURED-LOCATION;VALUE=URI;X-ADDRESS=Bibliothèque Françoise-Maurice de Coaticook 34 rue Main Est Coaticook Québec J1A 2B3 Canada;X-APPLE-RADIUS=500;X-TITLE=34\, rue Main Est:geo:-71.8046165,45.1324382
END:VEVENT
BEGIN:VEVENT
DTSTART;TZID=America/Toronto:20271015T093000
DTEND;TZID=America/Toronto:20271015T110000
DTSTAMP:20260423T093736
CREATED:20260106T183756Z
LAST-MODIFIED:20260303T163807Z
UID:10009140-1823592600-1823598000@ressourcescoaticook.com
SUMMARY:Ludi-mini
DESCRIPTION:Ludi-mini est le moment parfait pour venir profiter de notre aire de jeux avec vos enfants\, rencontrer d’autres parents\, jaser avec les intervenantes-familles et manger une bonne collation. Au plaisir de vous y voir ! \nDe 9 h 30 à 11 h tous les vendredis
URL:https://ressourcescoaticook.com/evenement/ludi-mini/2027-10-15/
LOCATION:Maison de la famille MRC de Coaticook\, 50 rue Court\, Coaticook\, Québec\, J1A 1L1\, Canada
END:VEVENT
BEGIN:VEVENT
DTSTART;TZID=America/Toronto:20271016T100000
DTEND;TZID=America/Toronto:20271016T113000
DTSTAMP:20260423T093736
CREATED:20250605T194734Z
LAST-MODIFIED:20250605T194734Z
UID:10008251-1823680800-1823686200@ressourcescoaticook.com
SUMMARY:Heure du conte
DESCRIPTION:Chaque samedi à 10h\, c’est l’heure du conte à la bibliothèque! \nEn compagne de Mégane\, les jeunes assistent à l’heure du conte et bricolent sous un thème qui change chaque semaine. \nC’est gratuit et il n’y a aucune inscription nécessaire…
URL:https://ressourcescoaticook.com/evenement/heure-du-conte-5/2027-10-16/
LOCATION:Bibliothèque Françoise-Maurice de Coaticook\, 34\, rue Main Est\, Coaticook\, Québec\, J1A 2B3\, Canada
ATTACH;FMTTYPE=image/png:https://ressourcescoaticook.com/wp-content/uploads/2025/06/Heure-du-conte_FB-940-x-600-px-940-x-450-px-Depliant-a-trois-volets.png
GEO:45.1324382;-71.8046165
X-APPLE-STRUCTURED-LOCATION;VALUE=URI;X-ADDRESS=Bibliothèque Françoise-Maurice de Coaticook 34 rue Main Est Coaticook Québec J1A 2B3 Canada;X-APPLE-RADIUS=500;X-TITLE=34\, rue Main Est:geo:-71.8046165,45.1324382
END:VEVENT
BEGIN:VEVENT
DTSTART;TZID=America/Toronto:20271022T093000
DTEND;TZID=America/Toronto:20271022T110000
DTSTAMP:20260423T093736
CREATED:20260106T183756Z
LAST-MODIFIED:20260303T163807Z
UID:10009141-1824197400-1824202800@ressourcescoaticook.com
SUMMARY:Ludi-mini
DESCRIPTION:Ludi-mini est le moment parfait pour venir profiter de notre aire de jeux avec vos enfants\, rencontrer d’autres parents\, jaser avec les intervenantes-familles et manger une bonne collation. Au plaisir de vous y voir ! \nDe 9 h 30 à 11 h tous les vendredis
URL:https://ressourcescoaticook.com/evenement/ludi-mini/2027-10-22/
LOCATION:Maison de la famille MRC de Coaticook\, 50 rue Court\, Coaticook\, Québec\, J1A 1L1\, Canada
END:VEVENT
BEGIN:VEVENT
DTSTART;TZID=America/Toronto:20271023T100000
DTEND;TZID=America/Toronto:20271023T113000
DTSTAMP:20260423T093736
CREATED:20250605T194734Z
LAST-MODIFIED:20250605T194734Z
UID:10008252-1824285600-1824291000@ressourcescoaticook.com
SUMMARY:Heure du conte
DESCRIPTION:Chaque samedi à 10h\, c’est l’heure du conte à la bibliothèque! \nEn compagne de Mégane\, les jeunes assistent à l’heure du conte et bricolent sous un thème qui change chaque semaine. \nC’est gratuit et il n’y a aucune inscription nécessaire…
URL:https://ressourcescoaticook.com/evenement/heure-du-conte-5/2027-10-23/
LOCATION:Bibliothèque Françoise-Maurice de Coaticook\, 34\, rue Main Est\, Coaticook\, Québec\, J1A 2B3\, Canada
ATTACH;FMTTYPE=image/png:https://ressourcescoaticook.com/wp-content/uploads/2025/06/Heure-du-conte_FB-940-x-600-px-940-x-450-px-Depliant-a-trois-volets.png
GEO:45.1324382;-71.8046165
X-APPLE-STRUCTURED-LOCATION;VALUE=URI;X-ADDRESS=Bibliothèque Françoise-Maurice de Coaticook 34 rue Main Est Coaticook Québec J1A 2B3 Canada;X-APPLE-RADIUS=500;X-TITLE=34\, rue Main Est:geo:-71.8046165,45.1324382
END:VEVENT
BEGIN:VEVENT
DTSTART;TZID=America/Toronto:20271029T093000
DTEND;TZID=America/Toronto:20271029T110000
DTSTAMP:20260423T093736
CREATED:20260106T183756Z
LAST-MODIFIED:20260303T163807Z
UID:10009142-1824802200-1824807600@ressourcescoaticook.com
SUMMARY:Ludi-mini
DESCRIPTION:Ludi-mini est le moment parfait pour venir profiter de notre aire de jeux avec vos enfants\, rencontrer d’autres parents\, jaser avec les intervenantes-familles et manger une bonne collation. Au plaisir de vous y voir ! \nDe 9 h 30 à 11 h tous les vendredis
URL:https://ressourcescoaticook.com/evenement/ludi-mini/2027-10-29/
LOCATION:Maison de la famille MRC de Coaticook\, 50 rue Court\, Coaticook\, Québec\, J1A 1L1\, Canada
END:VEVENT
BEGIN:VEVENT
DTSTART;TZID=America/Toronto:20271030T100000
DTEND;TZID=America/Toronto:20271030T113000
DTSTAMP:20260423T093736
CREATED:20250605T194734Z
LAST-MODIFIED:20250605T194734Z
UID:10008253-1824890400-1824895800@ressourcescoaticook.com
SUMMARY:Heure du conte
DESCRIPTION:Chaque samedi à 10h\, c’est l’heure du conte à la bibliothèque! \nEn compagne de Mégane\, les jeunes assistent à l’heure du conte et bricolent sous un thème qui change chaque semaine. \nC’est gratuit et il n’y a aucune inscription nécessaire…
URL:https://ressourcescoaticook.com/evenement/heure-du-conte-5/2027-10-30/
LOCATION:Bibliothèque Françoise-Maurice de Coaticook\, 34\, rue Main Est\, Coaticook\, Québec\, J1A 2B3\, Canada
ATTACH;FMTTYPE=image/png:https://ressourcescoaticook.com/wp-content/uploads/2025/06/Heure-du-conte_FB-940-x-600-px-940-x-450-px-Depliant-a-trois-volets.png
GEO:45.1324382;-71.8046165
X-APPLE-STRUCTURED-LOCATION;VALUE=URI;X-ADDRESS=Bibliothèque Françoise-Maurice de Coaticook 34 rue Main Est Coaticook Québec J1A 2B3 Canada;X-APPLE-RADIUS=500;X-TITLE=34\, rue Main Est:geo:-71.8046165,45.1324382
END:VEVENT
END:VCALENDAR