BEGIN:VCALENDAR
VERSION:2.0
PRODID:-//Répertoire d’organismes et associations communautaires de la région de Coaticook - ECPv6.15.20//NONSGML v1.0//EN
CALSCALE:GREGORIAN
METHOD:PUBLISH
X-ORIGINAL-URL:https://ressourcescoaticook.com
X-WR-CALDESC:Évènements pour Répertoire d’organismes et associations communautaires de la région de Coaticook
REFRESH-INTERVAL;VALUE=DURATION:PT1H
X-Robots-Tag:noindex
X-PUBLISHED-TTL:PT1H
BEGIN:VTIMEZONE
TZID:America/Toronto
BEGIN:DAYLIGHT
TZOFFSETFROM:-0500
TZOFFSETTO:-0400
TZNAME:EDT
DTSTART:20270314T070000
END:DAYLIGHT
BEGIN:STANDARD
TZOFFSETFROM:-0400
TZOFFSETTO:-0500
TZNAME:EST
DTSTART:20271107T060000
END:STANDARD
BEGIN:DAYLIGHT
TZOFFSETFROM:-0500
TZOFFSETTO:-0400
TZNAME:EDT
DTSTART:20280312T070000
END:DAYLIGHT
BEGIN:STANDARD
TZOFFSETFROM:-0400
TZOFFSETTO:-0500
TZNAME:EST
DTSTART:20281105T060000
END:STANDARD
BEGIN:DAYLIGHT
TZOFFSETFROM:-0500
TZOFFSETTO:-0400
TZNAME:EDT
DTSTART:20290311T070000
END:DAYLIGHT
BEGIN:STANDARD
TZOFFSETFROM:-0400
TZOFFSETTO:-0500
TZNAME:EST
DTSTART:20291104T060000
END:STANDARD
END:VTIMEZONE
BEGIN:VEVENT
DTSTART;TZID=America/Toronto:20280401T100000
DTEND;TZID=America/Toronto:20280401T113000
DTSTAMP:20260423T180455
CREATED:20250605T194734Z
LAST-MODIFIED:20250605T194734Z
UID:10008275-1838196000-1838201400@ressourcescoaticook.com
SUMMARY:Heure du conte
DESCRIPTION:Chaque samedi à 10h\, c’est l’heure du conte à la bibliothèque! \nEn compagne de Mégane\, les jeunes assistent à l’heure du conte et bricolent sous un thème qui change chaque semaine. \nC’est gratuit et il n’y a aucune inscription nécessaire…
URL:https://ressourcescoaticook.com/evenement/heure-du-conte-5/2028-04-01/
LOCATION:Bibliothèque Françoise-Maurice de Coaticook\, 34\, rue Main Est\, Coaticook\, Québec\, J1A 2B3\, Canada
ATTACH;FMTTYPE=image/png:https://ressourcescoaticook.com/wp-content/uploads/2025/06/Heure-du-conte_FB-940-x-600-px-940-x-450-px-Depliant-a-trois-volets.png
GEO:45.1324382;-71.8046165
X-APPLE-STRUCTURED-LOCATION;VALUE=URI;X-ADDRESS=Bibliothèque Françoise-Maurice de Coaticook 34 rue Main Est Coaticook Québec J1A 2B3 Canada;X-APPLE-RADIUS=500;X-TITLE=34\, rue Main Est:geo:-71.8046165,45.1324382
END:VEVENT
BEGIN:VEVENT
DTSTART;TZID=America/Toronto:20280407T093000
DTEND;TZID=America/Toronto:20280407T110000
DTSTAMP:20260423T180455
CREATED:20260106T183756Z
LAST-MODIFIED:20260303T163807Z
UID:10009165-1838712600-1838718000@ressourcescoaticook.com
SUMMARY:Ludi-mini
DESCRIPTION:Ludi-mini est le moment parfait pour venir profiter de notre aire de jeux avec vos enfants\, rencontrer d’autres parents\, jaser avec les intervenantes-familles et manger une bonne collation. Au plaisir de vous y voir ! \nDe 9 h 30 à 11 h tous les vendredis
URL:https://ressourcescoaticook.com/evenement/ludi-mini/2028-04-07/
LOCATION:Maison de la famille MRC de Coaticook\, 50 rue Court\, Coaticook\, Québec\, J1A 1L1\, Canada
END:VEVENT
BEGIN:VEVENT
DTSTART;TZID=America/Toronto:20280408T100000
DTEND;TZID=America/Toronto:20280408T113000
DTSTAMP:20260423T180455
CREATED:20250605T194734Z
LAST-MODIFIED:20250605T194734Z
UID:10008276-1838800800-1838806200@ressourcescoaticook.com
SUMMARY:Heure du conte
DESCRIPTION:Chaque samedi à 10h\, c’est l’heure du conte à la bibliothèque! \nEn compagne de Mégane\, les jeunes assistent à l’heure du conte et bricolent sous un thème qui change chaque semaine. \nC’est gratuit et il n’y a aucune inscription nécessaire…
URL:https://ressourcescoaticook.com/evenement/heure-du-conte-5/2028-04-08/
LOCATION:Bibliothèque Françoise-Maurice de Coaticook\, 34\, rue Main Est\, Coaticook\, Québec\, J1A 2B3\, Canada
ATTACH;FMTTYPE=image/png:https://ressourcescoaticook.com/wp-content/uploads/2025/06/Heure-du-conte_FB-940-x-600-px-940-x-450-px-Depliant-a-trois-volets.png
GEO:45.1324382;-71.8046165
X-APPLE-STRUCTURED-LOCATION;VALUE=URI;X-ADDRESS=Bibliothèque Françoise-Maurice de Coaticook 34 rue Main Est Coaticook Québec J1A 2B3 Canada;X-APPLE-RADIUS=500;X-TITLE=34\, rue Main Est:geo:-71.8046165,45.1324382
END:VEVENT
BEGIN:VEVENT
DTSTART;TZID=America/Toronto:20280414T093000
DTEND;TZID=America/Toronto:20280414T110000
DTSTAMP:20260423T180455
CREATED:20260106T183756Z
LAST-MODIFIED:20260303T163807Z
UID:10009166-1839317400-1839322800@ressourcescoaticook.com
SUMMARY:Ludi-mini
DESCRIPTION:Ludi-mini est le moment parfait pour venir profiter de notre aire de jeux avec vos enfants\, rencontrer d’autres parents\, jaser avec les intervenantes-familles et manger une bonne collation. Au plaisir de vous y voir ! \nDe 9 h 30 à 11 h tous les vendredis
URL:https://ressourcescoaticook.com/evenement/ludi-mini/2028-04-14/
LOCATION:Maison de la famille MRC de Coaticook\, 50 rue Court\, Coaticook\, Québec\, J1A 1L1\, Canada
END:VEVENT
BEGIN:VEVENT
DTSTART;TZID=America/Toronto:20280415T100000
DTEND;TZID=America/Toronto:20280415T113000
DTSTAMP:20260423T180455
CREATED:20250605T194734Z
LAST-MODIFIED:20250605T194734Z
UID:10008277-1839405600-1839411000@ressourcescoaticook.com
SUMMARY:Heure du conte
DESCRIPTION:Chaque samedi à 10h\, c’est l’heure du conte à la bibliothèque! \nEn compagne de Mégane\, les jeunes assistent à l’heure du conte et bricolent sous un thème qui change chaque semaine. \nC’est gratuit et il n’y a aucune inscription nécessaire…
URL:https://ressourcescoaticook.com/evenement/heure-du-conte-5/2028-04-15/
LOCATION:Bibliothèque Françoise-Maurice de Coaticook\, 34\, rue Main Est\, Coaticook\, Québec\, J1A 2B3\, Canada
ATTACH;FMTTYPE=image/png:https://ressourcescoaticook.com/wp-content/uploads/2025/06/Heure-du-conte_FB-940-x-600-px-940-x-450-px-Depliant-a-trois-volets.png
GEO:45.1324382;-71.8046165
X-APPLE-STRUCTURED-LOCATION;VALUE=URI;X-ADDRESS=Bibliothèque Françoise-Maurice de Coaticook 34 rue Main Est Coaticook Québec J1A 2B3 Canada;X-APPLE-RADIUS=500;X-TITLE=34\, rue Main Est:geo:-71.8046165,45.1324382
END:VEVENT
BEGIN:VEVENT
DTSTART;TZID=America/Toronto:20280421T093000
DTEND;TZID=America/Toronto:20280421T110000
DTSTAMP:20260423T180455
CREATED:20260106T183756Z
LAST-MODIFIED:20260303T163807Z
UID:10009167-1839922200-1839927600@ressourcescoaticook.com
SUMMARY:Ludi-mini
DESCRIPTION:Ludi-mini est le moment parfait pour venir profiter de notre aire de jeux avec vos enfants\, rencontrer d’autres parents\, jaser avec les intervenantes-familles et manger une bonne collation. Au plaisir de vous y voir ! \nDe 9 h 30 à 11 h tous les vendredis
URL:https://ressourcescoaticook.com/evenement/ludi-mini/2028-04-21/
LOCATION:Maison de la famille MRC de Coaticook\, 50 rue Court\, Coaticook\, Québec\, J1A 1L1\, Canada
END:VEVENT
BEGIN:VEVENT
DTSTART;TZID=America/Toronto:20280422T100000
DTEND;TZID=America/Toronto:20280422T113000
DTSTAMP:20260423T180455
CREATED:20250605T194734Z
LAST-MODIFIED:20250605T194734Z
UID:10008278-1840010400-1840015800@ressourcescoaticook.com
SUMMARY:Heure du conte
DESCRIPTION:Chaque samedi à 10h\, c’est l’heure du conte à la bibliothèque! \nEn compagne de Mégane\, les jeunes assistent à l’heure du conte et bricolent sous un thème qui change chaque semaine. \nC’est gratuit et il n’y a aucune inscription nécessaire…
URL:https://ressourcescoaticook.com/evenement/heure-du-conte-5/2028-04-22/
LOCATION:Bibliothèque Françoise-Maurice de Coaticook\, 34\, rue Main Est\, Coaticook\, Québec\, J1A 2B3\, Canada
ATTACH;FMTTYPE=image/png:https://ressourcescoaticook.com/wp-content/uploads/2025/06/Heure-du-conte_FB-940-x-600-px-940-x-450-px-Depliant-a-trois-volets.png
GEO:45.1324382;-71.8046165
X-APPLE-STRUCTURED-LOCATION;VALUE=URI;X-ADDRESS=Bibliothèque Françoise-Maurice de Coaticook 34 rue Main Est Coaticook Québec J1A 2B3 Canada;X-APPLE-RADIUS=500;X-TITLE=34\, rue Main Est:geo:-71.8046165,45.1324382
END:VEVENT
BEGIN:VEVENT
DTSTART;TZID=America/Toronto:20280428T093000
DTEND;TZID=America/Toronto:20280428T110000
DTSTAMP:20260423T180455
CREATED:20260106T183756Z
LAST-MODIFIED:20260303T163807Z
UID:10009168-1840527000-1840532400@ressourcescoaticook.com
SUMMARY:Ludi-mini
DESCRIPTION:Ludi-mini est le moment parfait pour venir profiter de notre aire de jeux avec vos enfants\, rencontrer d’autres parents\, jaser avec les intervenantes-familles et manger une bonne collation. Au plaisir de vous y voir ! \nDe 9 h 30 à 11 h tous les vendredis
URL:https://ressourcescoaticook.com/evenement/ludi-mini/2028-04-28/
LOCATION:Maison de la famille MRC de Coaticook\, 50 rue Court\, Coaticook\, Québec\, J1A 1L1\, Canada
END:VEVENT
BEGIN:VEVENT
DTSTART;TZID=America/Toronto:20280429T100000
DTEND;TZID=America/Toronto:20280429T113000
DTSTAMP:20260423T180455
CREATED:20250605T194734Z
LAST-MODIFIED:20250605T194734Z
UID:10008279-1840615200-1840620600@ressourcescoaticook.com
SUMMARY:Heure du conte
DESCRIPTION:Chaque samedi à 10h\, c’est l’heure du conte à la bibliothèque! \nEn compagne de Mégane\, les jeunes assistent à l’heure du conte et bricolent sous un thème qui change chaque semaine. \nC’est gratuit et il n’y a aucune inscription nécessaire…
URL:https://ressourcescoaticook.com/evenement/heure-du-conte-5/2028-04-29/
LOCATION:Bibliothèque Françoise-Maurice de Coaticook\, 34\, rue Main Est\, Coaticook\, Québec\, J1A 2B3\, Canada
ATTACH;FMTTYPE=image/png:https://ressourcescoaticook.com/wp-content/uploads/2025/06/Heure-du-conte_FB-940-x-600-px-940-x-450-px-Depliant-a-trois-volets.png
GEO:45.1324382;-71.8046165
X-APPLE-STRUCTURED-LOCATION;VALUE=URI;X-ADDRESS=Bibliothèque Françoise-Maurice de Coaticook 34 rue Main Est Coaticook Québec J1A 2B3 Canada;X-APPLE-RADIUS=500;X-TITLE=34\, rue Main Est:geo:-71.8046165,45.1324382
END:VEVENT
END:VCALENDAR