BEGIN:VCALENDAR
VERSION:2.0
PRODID:-//Répertoire d’organismes et associations communautaires de la région de Coaticook - ECPv6.15.20//NONSGML v1.0//EN
CALSCALE:GREGORIAN
METHOD:PUBLISH
X-ORIGINAL-URL:https://ressourcescoaticook.com
X-WR-CALDESC:Évènements pour Répertoire d’organismes et associations communautaires de la région de Coaticook
REFRESH-INTERVAL;VALUE=DURATION:PT1H
X-Robots-Tag:noindex
X-PUBLISHED-TTL:PT1H
BEGIN:VTIMEZONE
TZID:America/Toronto
BEGIN:DAYLIGHT
TZOFFSETFROM:-0500
TZOFFSETTO:-0400
TZNAME:EDT
DTSTART:20280312T070000
END:DAYLIGHT
BEGIN:STANDARD
TZOFFSETFROM:-0400
TZOFFSETTO:-0500
TZNAME:EST
DTSTART:20281105T060000
END:STANDARD
BEGIN:DAYLIGHT
TZOFFSETFROM:-0500
TZOFFSETTO:-0400
TZNAME:EDT
DTSTART:20290311T070000
END:DAYLIGHT
BEGIN:STANDARD
TZOFFSETFROM:-0400
TZOFFSETTO:-0500
TZNAME:EST
DTSTART:20291104T060000
END:STANDARD
BEGIN:DAYLIGHT
TZOFFSETFROM:-0500
TZOFFSETTO:-0400
TZNAME:EDT
DTSTART:20300310T070000
END:DAYLIGHT
BEGIN:STANDARD
TZOFFSETFROM:-0400
TZOFFSETTO:-0500
TZNAME:EST
DTSTART:20301103T060000
END:STANDARD
END:VTIMEZONE
BEGIN:VEVENT
DTSTART;TZID=America/Toronto:20290601T093000
DTEND;TZID=America/Toronto:20290601T110000
DTSTAMP:20260424T145134
CREATED:20260106T183756Z
LAST-MODIFIED:20260303T163807Z
UID:10009225-1875000600-1875006000@ressourcescoaticook.com
SUMMARY:Ludi-mini
DESCRIPTION:Ludi-mini est le moment parfait pour venir profiter de notre aire de jeux avec vos enfants\, rencontrer d’autres parents\, jaser avec les intervenantes-familles et manger une bonne collation. Au plaisir de vous y voir ! \nDe 9 h 30 à 11 h tous les vendredis
URL:https://ressourcescoaticook.com/evenement/ludi-mini/2029-06-01/
LOCATION:Maison de la famille MRC de Coaticook\, 50 rue Court\, Coaticook\, Québec\, J1A 1L1\, Canada
END:VEVENT
BEGIN:VEVENT
DTSTART;TZID=America/Toronto:20290602T100000
DTEND;TZID=America/Toronto:20290602T113000
DTSTAMP:20260424T145134
CREATED:20250605T194734Z
LAST-MODIFIED:20250605T194734Z
UID:10008336-1875088800-1875094200@ressourcescoaticook.com
SUMMARY:Heure du conte
DESCRIPTION:Chaque samedi à 10h\, c’est l’heure du conte à la bibliothèque! \nEn compagne de Mégane\, les jeunes assistent à l’heure du conte et bricolent sous un thème qui change chaque semaine. \nC’est gratuit et il n’y a aucune inscription nécessaire…
URL:https://ressourcescoaticook.com/evenement/heure-du-conte-5/2029-06-02/
LOCATION:Bibliothèque Françoise-Maurice de Coaticook\, 34\, rue Main Est\, Coaticook\, Québec\, J1A 2B3\, Canada
ATTACH;FMTTYPE=image/png:https://ressourcescoaticook.com/wp-content/uploads/2025/06/Heure-du-conte_FB-940-x-600-px-940-x-450-px-Depliant-a-trois-volets.png
GEO:45.1324382;-71.8046165
X-APPLE-STRUCTURED-LOCATION;VALUE=URI;X-ADDRESS=Bibliothèque Françoise-Maurice de Coaticook 34 rue Main Est Coaticook Québec J1A 2B3 Canada;X-APPLE-RADIUS=500;X-TITLE=34\, rue Main Est:geo:-71.8046165,45.1324382
END:VEVENT
BEGIN:VEVENT
DTSTART;TZID=America/Toronto:20290608T093000
DTEND;TZID=America/Toronto:20290608T110000
DTSTAMP:20260424T145134
CREATED:20260106T183756Z
LAST-MODIFIED:20260303T163807Z
UID:10009226-1875605400-1875610800@ressourcescoaticook.com
SUMMARY:Ludi-mini
DESCRIPTION:Ludi-mini est le moment parfait pour venir profiter de notre aire de jeux avec vos enfants\, rencontrer d’autres parents\, jaser avec les intervenantes-familles et manger une bonne collation. Au plaisir de vous y voir ! \nDe 9 h 30 à 11 h tous les vendredis
URL:https://ressourcescoaticook.com/evenement/ludi-mini/2029-06-08/
LOCATION:Maison de la famille MRC de Coaticook\, 50 rue Court\, Coaticook\, Québec\, J1A 1L1\, Canada
END:VEVENT
BEGIN:VEVENT
DTSTART;TZID=America/Toronto:20290609T100000
DTEND;TZID=America/Toronto:20290609T113000
DTSTAMP:20260424T145134
CREATED:20250605T194734Z
LAST-MODIFIED:20250605T194734Z
UID:10008337-1875693600-1875699000@ressourcescoaticook.com
SUMMARY:Heure du conte
DESCRIPTION:Chaque samedi à 10h\, c’est l’heure du conte à la bibliothèque! \nEn compagne de Mégane\, les jeunes assistent à l’heure du conte et bricolent sous un thème qui change chaque semaine. \nC’est gratuit et il n’y a aucune inscription nécessaire…
URL:https://ressourcescoaticook.com/evenement/heure-du-conte-5/2029-06-09/
LOCATION:Bibliothèque Françoise-Maurice de Coaticook\, 34\, rue Main Est\, Coaticook\, Québec\, J1A 2B3\, Canada
ATTACH;FMTTYPE=image/png:https://ressourcescoaticook.com/wp-content/uploads/2025/06/Heure-du-conte_FB-940-x-600-px-940-x-450-px-Depliant-a-trois-volets.png
GEO:45.1324382;-71.8046165
X-APPLE-STRUCTURED-LOCATION;VALUE=URI;X-ADDRESS=Bibliothèque Françoise-Maurice de Coaticook 34 rue Main Est Coaticook Québec J1A 2B3 Canada;X-APPLE-RADIUS=500;X-TITLE=34\, rue Main Est:geo:-71.8046165,45.1324382
END:VEVENT
BEGIN:VEVENT
DTSTART;TZID=America/Toronto:20290615T093000
DTEND;TZID=America/Toronto:20290615T110000
DTSTAMP:20260424T145134
CREATED:20260106T183756Z
LAST-MODIFIED:20260303T163807Z
UID:10009227-1876210200-1876215600@ressourcescoaticook.com
SUMMARY:Ludi-mini
DESCRIPTION:Ludi-mini est le moment parfait pour venir profiter de notre aire de jeux avec vos enfants\, rencontrer d’autres parents\, jaser avec les intervenantes-familles et manger une bonne collation. Au plaisir de vous y voir ! \nDe 9 h 30 à 11 h tous les vendredis
URL:https://ressourcescoaticook.com/evenement/ludi-mini/2029-06-15/
LOCATION:Maison de la famille MRC de Coaticook\, 50 rue Court\, Coaticook\, Québec\, J1A 1L1\, Canada
END:VEVENT
BEGIN:VEVENT
DTSTART;TZID=America/Toronto:20290616T100000
DTEND;TZID=America/Toronto:20290616T113000
DTSTAMP:20260424T145134
CREATED:20250605T194734Z
LAST-MODIFIED:20250605T194734Z
UID:10008338-1876298400-1876303800@ressourcescoaticook.com
SUMMARY:Heure du conte
DESCRIPTION:Chaque samedi à 10h\, c’est l’heure du conte à la bibliothèque! \nEn compagne de Mégane\, les jeunes assistent à l’heure du conte et bricolent sous un thème qui change chaque semaine. \nC’est gratuit et il n’y a aucune inscription nécessaire…
URL:https://ressourcescoaticook.com/evenement/heure-du-conte-5/2029-06-16/
LOCATION:Bibliothèque Françoise-Maurice de Coaticook\, 34\, rue Main Est\, Coaticook\, Québec\, J1A 2B3\, Canada
ATTACH;FMTTYPE=image/png:https://ressourcescoaticook.com/wp-content/uploads/2025/06/Heure-du-conte_FB-940-x-600-px-940-x-450-px-Depliant-a-trois-volets.png
GEO:45.1324382;-71.8046165
X-APPLE-STRUCTURED-LOCATION;VALUE=URI;X-ADDRESS=Bibliothèque Françoise-Maurice de Coaticook 34 rue Main Est Coaticook Québec J1A 2B3 Canada;X-APPLE-RADIUS=500;X-TITLE=34\, rue Main Est:geo:-71.8046165,45.1324382
END:VEVENT
BEGIN:VEVENT
DTSTART;TZID=America/Toronto:20290622T093000
DTEND;TZID=America/Toronto:20290622T110000
DTSTAMP:20260424T145134
CREATED:20260106T183756Z
LAST-MODIFIED:20260303T163807Z
UID:10009228-1876815000-1876820400@ressourcescoaticook.com
SUMMARY:Ludi-mini
DESCRIPTION:Ludi-mini est le moment parfait pour venir profiter de notre aire de jeux avec vos enfants\, rencontrer d’autres parents\, jaser avec les intervenantes-familles et manger une bonne collation. Au plaisir de vous y voir ! \nDe 9 h 30 à 11 h tous les vendredis
URL:https://ressourcescoaticook.com/evenement/ludi-mini/2029-06-22/
LOCATION:Maison de la famille MRC de Coaticook\, 50 rue Court\, Coaticook\, Québec\, J1A 1L1\, Canada
END:VEVENT
BEGIN:VEVENT
DTSTART;TZID=America/Toronto:20290623T100000
DTEND;TZID=America/Toronto:20290623T113000
DTSTAMP:20260424T145134
CREATED:20250605T194734Z
LAST-MODIFIED:20250605T194734Z
UID:10008339-1876903200-1876908600@ressourcescoaticook.com
SUMMARY:Heure du conte
DESCRIPTION:Chaque samedi à 10h\, c’est l’heure du conte à la bibliothèque! \nEn compagne de Mégane\, les jeunes assistent à l’heure du conte et bricolent sous un thème qui change chaque semaine. \nC’est gratuit et il n’y a aucune inscription nécessaire…
URL:https://ressourcescoaticook.com/evenement/heure-du-conte-5/2029-06-23/
LOCATION:Bibliothèque Françoise-Maurice de Coaticook\, 34\, rue Main Est\, Coaticook\, Québec\, J1A 2B3\, Canada
ATTACH;FMTTYPE=image/png:https://ressourcescoaticook.com/wp-content/uploads/2025/06/Heure-du-conte_FB-940-x-600-px-940-x-450-px-Depliant-a-trois-volets.png
GEO:45.1324382;-71.8046165
X-APPLE-STRUCTURED-LOCATION;VALUE=URI;X-ADDRESS=Bibliothèque Françoise-Maurice de Coaticook 34 rue Main Est Coaticook Québec J1A 2B3 Canada;X-APPLE-RADIUS=500;X-TITLE=34\, rue Main Est:geo:-71.8046165,45.1324382
END:VEVENT
BEGIN:VEVENT
DTSTART;TZID=America/Toronto:20290629T093000
DTEND;TZID=America/Toronto:20290629T110000
DTSTAMP:20260424T145134
CREATED:20260106T183756Z
LAST-MODIFIED:20260303T163807Z
UID:10009229-1877419800-1877425200@ressourcescoaticook.com
SUMMARY:Ludi-mini
DESCRIPTION:Ludi-mini est le moment parfait pour venir profiter de notre aire de jeux avec vos enfants\, rencontrer d’autres parents\, jaser avec les intervenantes-familles et manger une bonne collation. Au plaisir de vous y voir ! \nDe 9 h 30 à 11 h tous les vendredis
URL:https://ressourcescoaticook.com/evenement/ludi-mini/2029-06-29/
LOCATION:Maison de la famille MRC de Coaticook\, 50 rue Court\, Coaticook\, Québec\, J1A 1L1\, Canada
END:VEVENT
BEGIN:VEVENT
DTSTART;TZID=America/Toronto:20290630T100000
DTEND;TZID=America/Toronto:20290630T113000
DTSTAMP:20260424T145134
CREATED:20250605T194734Z
LAST-MODIFIED:20250605T194734Z
UID:10008340-1877508000-1877513400@ressourcescoaticook.com
SUMMARY:Heure du conte
DESCRIPTION:Chaque samedi à 10h\, c’est l’heure du conte à la bibliothèque! \nEn compagne de Mégane\, les jeunes assistent à l’heure du conte et bricolent sous un thème qui change chaque semaine. \nC’est gratuit et il n’y a aucune inscription nécessaire…
URL:https://ressourcescoaticook.com/evenement/heure-du-conte-5/2029-06-30/
LOCATION:Bibliothèque Françoise-Maurice de Coaticook\, 34\, rue Main Est\, Coaticook\, Québec\, J1A 2B3\, Canada
ATTACH;FMTTYPE=image/png:https://ressourcescoaticook.com/wp-content/uploads/2025/06/Heure-du-conte_FB-940-x-600-px-940-x-450-px-Depliant-a-trois-volets.png
GEO:45.1324382;-71.8046165
X-APPLE-STRUCTURED-LOCATION;VALUE=URI;X-ADDRESS=Bibliothèque Françoise-Maurice de Coaticook 34 rue Main Est Coaticook Québec J1A 2B3 Canada;X-APPLE-RADIUS=500;X-TITLE=34\, rue Main Est:geo:-71.8046165,45.1324382
END:VEVENT
END:VCALENDAR