BEGIN:VCALENDAR
VERSION:2.0
PRODID:-//Répertoire d’organismes et associations communautaires de la région de Coaticook - ECPv6.15.20//NONSGML v1.0//EN
CALSCALE:GREGORIAN
METHOD:PUBLISH
X-ORIGINAL-URL:https://ressourcescoaticook.com
X-WR-CALDESC:Évènements pour Répertoire d’organismes et associations communautaires de la région de Coaticook
REFRESH-INTERVAL;VALUE=DURATION:PT1H
X-Robots-Tag:noindex
X-PUBLISHED-TTL:PT1H
BEGIN:VTIMEZONE
TZID:America/Toronto
BEGIN:DAYLIGHT
TZOFFSETFROM:-0500
TZOFFSETTO:-0400
TZNAME:EDT
DTSTART:20250309T070000
END:DAYLIGHT
BEGIN:STANDARD
TZOFFSETFROM:-0400
TZOFFSETTO:-0500
TZNAME:EST
DTSTART:20251102T060000
END:STANDARD
BEGIN:DAYLIGHT
TZOFFSETFROM:-0500
TZOFFSETTO:-0400
TZNAME:EDT
DTSTART:20260308T070000
END:DAYLIGHT
BEGIN:STANDARD
TZOFFSETFROM:-0400
TZOFFSETTO:-0500
TZNAME:EST
DTSTART:20261101T060000
END:STANDARD
BEGIN:DAYLIGHT
TZOFFSETFROM:-0500
TZOFFSETTO:-0400
TZNAME:EDT
DTSTART:20270314T070000
END:DAYLIGHT
BEGIN:STANDARD
TZOFFSETFROM:-0400
TZOFFSETTO:-0500
TZNAME:EST
DTSTART:20271107T060000
END:STANDARD
END:VTIMEZONE
BEGIN:VEVENT
DTSTART;TZID=America/Toronto:20260422T130000
DTEND;TZID=America/Toronto:20260422T160000
DTSTAMP:20260422T073025
CREATED:20250827T181748Z
LAST-MODIFIED:20250827T181748Z
UID:10008711-1776862800-1776873600@ressourcescoaticook.com
SUMMARY:Jeux du mercredi
DESCRIPTION:Jeux et activités tout l’après-midi\nPossibilité de prendre votre carte FADOQ sur place\nACTIVITÉS GRATUITES ET COLLATIONS\nBIENVENUE\nà tous les membres FADOQ !!!\n***Prenez note que de participer ou s’inscrire à une activité\nconstitue une autorisation de diffusion des photos\nou vidéos de l’activité par le club FADOQ-Coaticook.
URL:https://ressourcescoaticook.com/evenement/jeux-du-mercredi-20/
LOCATION:Centre communautaire de Coaticook (Élie-Carrier)\, 464 rue Merrill\, Coaticook\, Québec\, J1A 1X5
ATTACH;FMTTYPE=image/png:https://ressourcescoaticook.com/wp-content/uploads/2025/08/Jeux-mercredi.png
ORGANIZER;CN="FADOQ Coaticook":MAILTO:info.coaticook@fadoqestrie.ca
GEO:45.1336856;-71.8039462
X-APPLE-STRUCTURED-LOCATION;VALUE=URI;X-ADDRESS=Centre communautaire de Coaticook (Élie-Carrier) 464 rue Merrill Coaticook Québec J1A 1X5;X-APPLE-RADIUS=500;X-TITLE=464 rue Merrill:geo:-71.8039462,45.1336856
END:VEVENT
BEGIN:VEVENT
DTSTART;TZID=America/Toronto:20260424T093000
DTEND;TZID=America/Toronto:20260424T110000
DTSTAMP:20260422T073025
CREATED:20260106T183756Z
LAST-MODIFIED:20260303T163807Z
UID:10009063-1777023000-1777028400@ressourcescoaticook.com
SUMMARY:Ludi-mini
DESCRIPTION:Ludi-mini est le moment parfait pour venir profiter de notre aire de jeux avec vos enfants\, rencontrer d’autres parents\, jaser avec les intervenantes-familles et manger une bonne collation. Au plaisir de vous y voir ! \nDe 9 h 30 à 11 h tous les vendredis
URL:https://ressourcescoaticook.com/evenement/ludi-mini/2026-04-24/
LOCATION:Maison de la famille MRC de Coaticook\, 50 rue Court\, Coaticook\, Québec\, J1A 1L1\, Canada
END:VEVENT
BEGIN:VEVENT
DTSTART;TZID=America/Toronto:20260425T100000
DTEND;TZID=America/Toronto:20260425T113000
DTSTAMP:20260422T073025
CREATED:20250605T194734Z
LAST-MODIFIED:20250605T194734Z
UID:10008174-1777111200-1777116600@ressourcescoaticook.com
SUMMARY:Heure du conte
DESCRIPTION:Chaque samedi à 10h\, c’est l’heure du conte à la bibliothèque! \nEn compagne de Mégane\, les jeunes assistent à l’heure du conte et bricolent sous un thème qui change chaque semaine. \nC’est gratuit et il n’y a aucune inscription nécessaire…
URL:https://ressourcescoaticook.com/evenement/heure-du-conte-5/2026-04-25/
LOCATION:Bibliothèque Françoise-Maurice de Coaticook\, 34\, rue Main Est\, Coaticook\, Québec\, J1A 2B3\, Canada
ATTACH;FMTTYPE=image/png:https://ressourcescoaticook.com/wp-content/uploads/2025/06/Heure-du-conte_FB-940-x-600-px-940-x-450-px-Depliant-a-trois-volets.png
GEO:45.1324382;-71.8046165
X-APPLE-STRUCTURED-LOCATION;VALUE=URI;X-ADDRESS=Bibliothèque Françoise-Maurice de Coaticook 34 rue Main Est Coaticook Québec J1A 2B3 Canada;X-APPLE-RADIUS=500;X-TITLE=34\, rue Main Est:geo:-71.8046165,45.1324382
END:VEVENT
BEGIN:VEVENT
DTSTART;TZID=America/Toronto:20260426T153000
DTEND;TZID=America/Toronto:20260426T180000
DTSTAMP:20260422T073025
CREATED:20260305T182616Z
LAST-MODIFIED:20260305T182616Z
UID:10009430-1777217400-1777226400@ressourcescoaticook.com
SUMMARY:Friperie Éphémère Collège Francois-Delaplace
DESCRIPTION:La friperie du Collège Francois-Delaplace ouvrira ses portes aux public le dimanche 26 avril de 15h30 à 18h30.\nLes fonds amassés serviront pour financer les activités étudiantes.\n10$/ sac ou item à l’unité\nTailles XS à XS (maillots\, shorts\, jupes\, robes\, jeans\, pantalons\, hoodies\, chemises\, croc top\, souliers\, manteaux\, bottes\, articles décos\, pyjama\, linge de sport etc.) marque: North Face\, Puma\, Yoga jeans\, Columibia\, Nike\, etc.)\nArrivez tôt pour les trésors! \n*petite section pour hommes
URL:https://ressourcescoaticook.com/evenement/friperie-ephemere-college-francois-delaplace/
LOCATION:Collège François-Delaplace\, 365 Rue Compton E\, Waterville\, Québec\, J0B 3H0\, Canada
ATTACH;FMTTYPE=image/png:https://ressourcescoaticook.com/wp-content/uploads/2026/03/friperie-26-avril.png
END:VEVENT
BEGIN:VEVENT
DTSTART;TZID=America/Toronto:20260428T093000
DTEND;TZID=America/Toronto:20260428T113000
DTSTAMP:20260422T073025
CREATED:20250430T145858Z
LAST-MODIFIED:20250430T145858Z
UID:10007708-1777368600-1777375800@ressourcescoaticook.com
SUMMARY:Café Parent'Jase
DESCRIPTION:Venez prendre un bon café et échanger sur différentes thématiques! \nLe Parent-Jase c’est le rendez-vous hebdomadaire des parents! C’est aussi un espace d’échange et dialogue où les familles peuvent discuter librement sans se sentir jugées. Au menu : discussions sur divers sujets entourant la parentalité\, conférences\, ateliers créatifs et de croissance personnelle\, cuisines… suivez-nous sur Facebook pour en savoir plus! \nHoraire: mardi 9h30 à 11h30\nLieu: Maison de la famille 50\, rue Court\nTarif: gratuit\, café inclus!
URL:https://ressourcescoaticook.com/evenement/cafe-parentjase-2/2026-04-28/
LOCATION:Maison de la famille MRC de Coaticook\, 50 rue Court\, Coaticook\, Québec\, J1A 1L1\, Canada
ATTACH;FMTTYPE=image/png:https://ressourcescoaticook.com/wp-content/uploads/2025/04/parent-jase-1660759872-e1746025117791.png
END:VEVENT
BEGIN:VEVENT
DTSTART;TZID=America/Toronto:20260428T170000
DTEND;TZID=America/Toronto:20260428T190000
DTSTAMP:20260422T073025
CREATED:20260421T200420Z
LAST-MODIFIED:20260421T200420Z
UID:10009437-1777395600-1777402800@ressourcescoaticook.com
SUMMARY:Réduire ses dépenses - Échanges et discussions
DESCRIPTION:Atelier animé par Solution Budget Plus afin de donnez des trucs pour économiser en cette période économique difficile. Venez échanger et discuter sur les meilleurs stratégies pour arriver à changer certaines habitudes qui nous amène à dépenser trop facilement l’argent durement gagné.
URL:https://ressourcescoaticook.com/evenement/reduire-ses-depenses-echanges-et-discussions/
LOCATION:divan orange\, 102 rue Child\, Coaticook\, Québec\, Canada
CATEGORIES:En présence
ATTACH;FMTTYPE=image/png:https://ressourcescoaticook.com/wp-content/uploads/2026/04/Soiree-3-1.png
ORGANIZER;CN="Brigade d'acceuil":MAILTO:accueil@mrcdecoaticook.qc.ca
END:VEVENT
BEGIN:VEVENT
DTSTART;TZID=America/Toronto:20260429T130000
DTEND;TZID=America/Toronto:20260429T160000
DTSTAMP:20260422T073025
CREATED:20250827T181811Z
LAST-MODIFIED:20250827T181811Z
UID:10008712-1777467600-1777478400@ressourcescoaticook.com
SUMMARY:Jeux du mercredi
DESCRIPTION:Jeux et activités tout l’après-midi\nPossibilité de prendre votre carte FADOQ sur place\nACTIVITÉS GRATUITES ET COLLATIONS\nBIENVENUE\nà tous les membres FADOQ !!!\n***Prenez note que de participer ou s’inscrire à une activité\nconstitue une autorisation de diffusion des photos\nou vidéos de l’activité par le club FADOQ-Coaticook.
URL:https://ressourcescoaticook.com/evenement/jeux-du-mercredi-21/
LOCATION:Centre communautaire de Coaticook (Élie-Carrier)\, 464 rue Merrill\, Coaticook\, Québec\, J1A 1X5
ATTACH;FMTTYPE=image/png:https://ressourcescoaticook.com/wp-content/uploads/2025/08/Jeux-mercredi.png
ORGANIZER;CN="FADOQ Coaticook":MAILTO:info.coaticook@fadoqestrie.ca
GEO:45.1336856;-71.8039462
X-APPLE-STRUCTURED-LOCATION;VALUE=URI;X-ADDRESS=Centre communautaire de Coaticook (Élie-Carrier) 464 rue Merrill Coaticook Québec J1A 1X5;X-APPLE-RADIUS=500;X-TITLE=464 rue Merrill:geo:-71.8039462,45.1336856
END:VEVENT
BEGIN:VEVENT
DTSTART;TZID=America/Toronto:20260430T183000
DTEND;TZID=America/Toronto:20260430T203000
DTSTAMP:20260422T073025
CREATED:20260420T155640Z
LAST-MODIFIED:20260420T155640Z
UID:10009435-1777573800-1777581000@ressourcescoaticook.com
SUMMARY:Assemblée générale annuelle du Pavillon des arts
DESCRIPTION:Le Pavillon des arts et de la culture de Coaticook vous convie à sa 30e Assemblée générale annuelle\, qui aura lieu le 28 avril prochain à 18h30 à la salle Yvette-Rousseau du Pavillon des arts. \nVenez bénéficier d’un petit goûter en assistant à la présentation du bilan de l’année 2025 de l’organisme. \nPour avoir le droit de vote\, vous devez être membre en règle du Pavillon des arts. \nL’entrée est gratuite\, mais on vous recommande de vous inscrire via la billetterie pour réserver votre place. \nVoici l’ordre du jour : \nMot de bienvenue et ouverture de l’assemblée\nVérification des présences\nPrésentation des membres\nLecture et adoption de l’ordre du jour\nLecture et adoption du procès-verbal du 24 avril 2025\nMot de la présidente\nPrésentation du rapport annuel 2025 du Pavillon des arts\nÉtats financiers de l’année 2025\nNomination des officiers d’élection\nÉlection ou réélection des membres du conseil d’administration\nPériode de questions\nRemerciements et levée de l’assemblée
URL:https://ressourcescoaticook.com/evenement/assemblee-generale-annuelle-du-pavillon-des-arts-2/
LOCATION:Pavillon des arts et de la culture de Coaticook\, 116 Rue Wellington\, Coaticook\, Qc\, J1A 1K1\, Canada
CATEGORIES:En présence
ATTACH;FMTTYPE=image/jpeg:https://ressourcescoaticook.com/wp-content/uploads/2026/04/Photos-Tuxedo-Printemps-2024-1.jpg
ORGANIZER;CN="Pavillon des arts et de la culture de Coaticook":MAILTO:info@pavillondesarts.qc.ca
GEO:45.1341267;-71.8038986
X-APPLE-STRUCTURED-LOCATION;VALUE=URI;X-ADDRESS=Pavillon des arts et de la culture de Coaticook 116 Rue Wellington Coaticook Qc J1A 1K1 Canada;X-APPLE-RADIUS=500;X-TITLE=116 Rue Wellington:geo:-71.8038986,45.1341267
END:VEVENT
END:VCALENDAR