BEGIN:VCALENDAR
VERSION:2.0
PRODID:-//Répertoire d’organismes et associations communautaires de la région de Coaticook - ECPv6.15.20//NONSGML v1.0//EN
CALSCALE:GREGORIAN
METHOD:PUBLISH
X-WR-CALNAME:Répertoire d’organismes et associations communautaires de la région de Coaticook
X-ORIGINAL-URL:https://ressourcescoaticook.com
X-WR-CALDESC:Évènements pour Répertoire d’organismes et associations communautaires de la région de Coaticook
REFRESH-INTERVAL;VALUE=DURATION:PT1H
X-Robots-Tag:noindex
X-PUBLISHED-TTL:PT1H
BEGIN:VTIMEZONE
TZID:America/Toronto
BEGIN:DAYLIGHT
TZOFFSETFROM:-0500
TZOFFSETTO:-0400
TZNAME:EDT
DTSTART:20220313T070000
END:DAYLIGHT
BEGIN:STANDARD
TZOFFSETFROM:-0400
TZOFFSETTO:-0500
TZNAME:EST
DTSTART:20221106T060000
END:STANDARD
BEGIN:DAYLIGHT
TZOFFSETFROM:-0500
TZOFFSETTO:-0400
TZNAME:EDT
DTSTART:20230312T070000
END:DAYLIGHT
BEGIN:STANDARD
TZOFFSETFROM:-0400
TZOFFSETTO:-0500
TZNAME:EST
DTSTART:20231105T060000
END:STANDARD
BEGIN:DAYLIGHT
TZOFFSETFROM:-0500
TZOFFSETTO:-0400
TZNAME:EDT
DTSTART:20240310T070000
END:DAYLIGHT
BEGIN:STANDARD
TZOFFSETFROM:-0400
TZOFFSETTO:-0500
TZNAME:EST
DTSTART:20241103T060000
END:STANDARD
END:VTIMEZONE
BEGIN:VEVENT
DTSTART;TZID=America/Toronto:20230426T130000
DTEND;TZID=America/Toronto:20230426T160000
DTSTAMP:20260425T065554
CREATED:20230210T164936Z
LAST-MODIFIED:20230210T165039Z
UID:10004651-1682514000-1682524800@ressourcescoaticook.com
SUMMARY:Cliniques d'impôts pour personnes à faibles revenus - en présentiel
DESCRIPTION:Le Centre d’action bénévole de la MRC de Coaticook (CAB) va tenir ses traditionnelles cliniques d’impôts pour personnes à faibles revenus du mercredi 22 février au vendredi 28 avril.\nAprès deux ans en mode téléphonique\, nos cliniques d’impôts reprendront en mode hybride dès le 22 février.\nAinsi\, les inscriptions en présentiels et la récupération des documents se feront au Salon Winslow\, 87\, rue Main Ouest\, à Coaticook\, de 13 h à 16 h\, les mercredis 22 février\, 1er\, 8\, 15\, 22 et 29 mars\, 5\, 12\, 19 et 26 avril. Sans rendez-vous !\n\nUn service d’inscriptions téléphoniques sera également offert selon l’horaire suivant : de 9 h à 12 h\, les jeudis 23 février\, 9 et 23 mars et 13 avril. 819-849-7011\, poste 231. Les personnes y requérant devront ensuite amener leurs documents à l’accueil du Centre d’action bénévole.\n\nPlus d’informations sur notre site web: https://bit.ly/40NC2vk
URL:https://ressourcescoaticook.com/evenement/cliniques-dimpots-pour-personnes-a-faibles-revenus/2023-04-26/
LOCATION:Salon Winslow\, 87\, rue Main Ouest\, Coaticook\, Québec\, Canada
ATTACH;FMTTYPE=image/jpeg:https://ressourcescoaticook.com/wp-content/uploads/2018/03/Clinique-impôt_CAB.jpg
ORGANIZER;CN="Centre d'action b%C3%A9n%C3%A9vole de la MRC de Coaticook":MAILTO:benevoles@cabmrccoaticook.org
END:VEVENT
BEGIN:VEVENT
DTSTART;TZID=America/Toronto:20230419T130000
DTEND;TZID=America/Toronto:20230419T160000
DTSTAMP:20260425T065554
CREATED:20230210T164936Z
LAST-MODIFIED:20230210T165039Z
UID:10004650-1681909200-1681920000@ressourcescoaticook.com
SUMMARY:Cliniques d'impôts pour personnes à faibles revenus - en présentiel
DESCRIPTION:Le Centre d’action bénévole de la MRC de Coaticook (CAB) va tenir ses traditionnelles cliniques d’impôts pour personnes à faibles revenus du mercredi 22 février au vendredi 28 avril.\nAprès deux ans en mode téléphonique\, nos cliniques d’impôts reprendront en mode hybride dès le 22 février.\nAinsi\, les inscriptions en présentiels et la récupération des documents se feront au Salon Winslow\, 87\, rue Main Ouest\, à Coaticook\, de 13 h à 16 h\, les mercredis 22 février\, 1er\, 8\, 15\, 22 et 29 mars\, 5\, 12\, 19 et 26 avril. Sans rendez-vous !\n\nUn service d’inscriptions téléphoniques sera également offert selon l’horaire suivant : de 9 h à 12 h\, les jeudis 23 février\, 9 et 23 mars et 13 avril. 819-849-7011\, poste 231. Les personnes y requérant devront ensuite amener leurs documents à l’accueil du Centre d’action bénévole.\n\nPlus d’informations sur notre site web: https://bit.ly/40NC2vk
URL:https://ressourcescoaticook.com/evenement/cliniques-dimpots-pour-personnes-a-faibles-revenus/2023-04-19/
LOCATION:Salon Winslow\, 87\, rue Main Ouest\, Coaticook\, Québec\, Canada
ATTACH;FMTTYPE=image/jpeg:https://ressourcescoaticook.com/wp-content/uploads/2018/03/Clinique-impôt_CAB.jpg
ORGANIZER;CN="Centre d'action b%C3%A9n%C3%A9vole de la MRC de Coaticook":MAILTO:benevoles@cabmrccoaticook.org
END:VEVENT
BEGIN:VEVENT
DTSTART;TZID=America/Toronto:20230412T130000
DTEND;TZID=America/Toronto:20230412T160000
DTSTAMP:20260425T065554
CREATED:20230210T164936Z
LAST-MODIFIED:20230210T165039Z
UID:10004649-1681304400-1681315200@ressourcescoaticook.com
SUMMARY:Cliniques d'impôts pour personnes à faibles revenus - en présentiel
DESCRIPTION:Le Centre d’action bénévole de la MRC de Coaticook (CAB) va tenir ses traditionnelles cliniques d’impôts pour personnes à faibles revenus du mercredi 22 février au vendredi 28 avril.\nAprès deux ans en mode téléphonique\, nos cliniques d’impôts reprendront en mode hybride dès le 22 février.\nAinsi\, les inscriptions en présentiels et la récupération des documents se feront au Salon Winslow\, 87\, rue Main Ouest\, à Coaticook\, de 13 h à 16 h\, les mercredis 22 février\, 1er\, 8\, 15\, 22 et 29 mars\, 5\, 12\, 19 et 26 avril. Sans rendez-vous !\n\nUn service d’inscriptions téléphoniques sera également offert selon l’horaire suivant : de 9 h à 12 h\, les jeudis 23 février\, 9 et 23 mars et 13 avril. 819-849-7011\, poste 231. Les personnes y requérant devront ensuite amener leurs documents à l’accueil du Centre d’action bénévole.\n\nPlus d’informations sur notre site web: https://bit.ly/40NC2vk
URL:https://ressourcescoaticook.com/evenement/cliniques-dimpots-pour-personnes-a-faibles-revenus/2023-04-12/
LOCATION:Salon Winslow\, 87\, rue Main Ouest\, Coaticook\, Québec\, Canada
ATTACH;FMTTYPE=image/jpeg:https://ressourcescoaticook.com/wp-content/uploads/2018/03/Clinique-impôt_CAB.jpg
ORGANIZER;CN="Centre d'action b%C3%A9n%C3%A9vole de la MRC de Coaticook":MAILTO:benevoles@cabmrccoaticook.org
END:VEVENT
BEGIN:VEVENT
DTSTART;TZID=America/Toronto:20230405T130000
DTEND;TZID=America/Toronto:20230405T160000
DTSTAMP:20260425T065554
CREATED:20230210T164936Z
LAST-MODIFIED:20230210T165039Z
UID:10004648-1680699600-1680710400@ressourcescoaticook.com
SUMMARY:Cliniques d'impôts pour personnes à faibles revenus - en présentiel
DESCRIPTION:Le Centre d’action bénévole de la MRC de Coaticook (CAB) va tenir ses traditionnelles cliniques d’impôts pour personnes à faibles revenus du mercredi 22 février au vendredi 28 avril.\nAprès deux ans en mode téléphonique\, nos cliniques d’impôts reprendront en mode hybride dès le 22 février.\nAinsi\, les inscriptions en présentiels et la récupération des documents se feront au Salon Winslow\, 87\, rue Main Ouest\, à Coaticook\, de 13 h à 16 h\, les mercredis 22 février\, 1er\, 8\, 15\, 22 et 29 mars\, 5\, 12\, 19 et 26 avril. Sans rendez-vous !\n\nUn service d’inscriptions téléphoniques sera également offert selon l’horaire suivant : de 9 h à 12 h\, les jeudis 23 février\, 9 et 23 mars et 13 avril. 819-849-7011\, poste 231. Les personnes y requérant devront ensuite amener leurs documents à l’accueil du Centre d’action bénévole.\n\nPlus d’informations sur notre site web: https://bit.ly/40NC2vk
URL:https://ressourcescoaticook.com/evenement/cliniques-dimpots-pour-personnes-a-faibles-revenus/2023-04-05/
LOCATION:Salon Winslow\, 87\, rue Main Ouest\, Coaticook\, Québec\, Canada
ATTACH;FMTTYPE=image/jpeg:https://ressourcescoaticook.com/wp-content/uploads/2018/03/Clinique-impôt_CAB.jpg
ORGANIZER;CN="Centre d'action b%C3%A9n%C3%A9vole de la MRC de Coaticook":MAILTO:benevoles@cabmrccoaticook.org
END:VEVENT
BEGIN:VEVENT
DTSTART;TZID=America/Toronto:20230329T130000
DTEND;TZID=America/Toronto:20230329T160000
DTSTAMP:20260425T065554
CREATED:20230210T164936Z
LAST-MODIFIED:20230210T165039Z
UID:10004647-1680094800-1680105600@ressourcescoaticook.com
SUMMARY:Cliniques d'impôts pour personnes à faibles revenus - en présentiel
DESCRIPTION:Le Centre d’action bénévole de la MRC de Coaticook (CAB) va tenir ses traditionnelles cliniques d’impôts pour personnes à faibles revenus du mercredi 22 février au vendredi 28 avril.\nAprès deux ans en mode téléphonique\, nos cliniques d’impôts reprendront en mode hybride dès le 22 février.\nAinsi\, les inscriptions en présentiels et la récupération des documents se feront au Salon Winslow\, 87\, rue Main Ouest\, à Coaticook\, de 13 h à 16 h\, les mercredis 22 février\, 1er\, 8\, 15\, 22 et 29 mars\, 5\, 12\, 19 et 26 avril. Sans rendez-vous !\n\nUn service d’inscriptions téléphoniques sera également offert selon l’horaire suivant : de 9 h à 12 h\, les jeudis 23 février\, 9 et 23 mars et 13 avril. 819-849-7011\, poste 231. Les personnes y requérant devront ensuite amener leurs documents à l’accueil du Centre d’action bénévole.\n\nPlus d’informations sur notre site web: https://bit.ly/40NC2vk
URL:https://ressourcescoaticook.com/evenement/cliniques-dimpots-pour-personnes-a-faibles-revenus/2023-03-29/
LOCATION:Salon Winslow\, 87\, rue Main Ouest\, Coaticook\, Québec\, Canada
ATTACH;FMTTYPE=image/jpeg:https://ressourcescoaticook.com/wp-content/uploads/2018/03/Clinique-impôt_CAB.jpg
ORGANIZER;CN="Centre d'action b%C3%A9n%C3%A9vole de la MRC de Coaticook":MAILTO:benevoles@cabmrccoaticook.org
END:VEVENT
BEGIN:VEVENT
DTSTART;TZID=America/Toronto:20230322T130000
DTEND;TZID=America/Toronto:20230322T160000
DTSTAMP:20260425T065554
CREATED:20230210T164936Z
LAST-MODIFIED:20230210T165039Z
UID:10004646-1679490000-1679500800@ressourcescoaticook.com
SUMMARY:Cliniques d'impôts pour personnes à faibles revenus - en présentiel
DESCRIPTION:Le Centre d’action bénévole de la MRC de Coaticook (CAB) va tenir ses traditionnelles cliniques d’impôts pour personnes à faibles revenus du mercredi 22 février au vendredi 28 avril.\nAprès deux ans en mode téléphonique\, nos cliniques d’impôts reprendront en mode hybride dès le 22 février.\nAinsi\, les inscriptions en présentiels et la récupération des documents se feront au Salon Winslow\, 87\, rue Main Ouest\, à Coaticook\, de 13 h à 16 h\, les mercredis 22 février\, 1er\, 8\, 15\, 22 et 29 mars\, 5\, 12\, 19 et 26 avril. Sans rendez-vous !\n\nUn service d’inscriptions téléphoniques sera également offert selon l’horaire suivant : de 9 h à 12 h\, les jeudis 23 février\, 9 et 23 mars et 13 avril. 819-849-7011\, poste 231. Les personnes y requérant devront ensuite amener leurs documents à l’accueil du Centre d’action bénévole.\n\nPlus d’informations sur notre site web: https://bit.ly/40NC2vk
URL:https://ressourcescoaticook.com/evenement/cliniques-dimpots-pour-personnes-a-faibles-revenus/2023-03-22/
LOCATION:Salon Winslow\, 87\, rue Main Ouest\, Coaticook\, Québec\, Canada
ATTACH;FMTTYPE=image/jpeg:https://ressourcescoaticook.com/wp-content/uploads/2018/03/Clinique-impôt_CAB.jpg
ORGANIZER;CN="Centre d'action b%C3%A9n%C3%A9vole de la MRC de Coaticook":MAILTO:benevoles@cabmrccoaticook.org
END:VEVENT
BEGIN:VEVENT
DTSTART;TZID=America/Toronto:20230315T130000
DTEND;TZID=America/Toronto:20230315T160000
DTSTAMP:20260425T065554
CREATED:20230210T164936Z
LAST-MODIFIED:20230210T165039Z
UID:10004645-1678885200-1678896000@ressourcescoaticook.com
SUMMARY:Cliniques d'impôts pour personnes à faibles revenus - en présentiel
DESCRIPTION:Le Centre d’action bénévole de la MRC de Coaticook (CAB) va tenir ses traditionnelles cliniques d’impôts pour personnes à faibles revenus du mercredi 22 février au vendredi 28 avril.\nAprès deux ans en mode téléphonique\, nos cliniques d’impôts reprendront en mode hybride dès le 22 février.\nAinsi\, les inscriptions en présentiels et la récupération des documents se feront au Salon Winslow\, 87\, rue Main Ouest\, à Coaticook\, de 13 h à 16 h\, les mercredis 22 février\, 1er\, 8\, 15\, 22 et 29 mars\, 5\, 12\, 19 et 26 avril. Sans rendez-vous !\n\nUn service d’inscriptions téléphoniques sera également offert selon l’horaire suivant : de 9 h à 12 h\, les jeudis 23 février\, 9 et 23 mars et 13 avril. 819-849-7011\, poste 231. Les personnes y requérant devront ensuite amener leurs documents à l’accueil du Centre d’action bénévole.\n\nPlus d’informations sur notre site web: https://bit.ly/40NC2vk
URL:https://ressourcescoaticook.com/evenement/cliniques-dimpots-pour-personnes-a-faibles-revenus/2023-03-15/
LOCATION:Salon Winslow\, 87\, rue Main Ouest\, Coaticook\, Québec\, Canada
ATTACH;FMTTYPE=image/jpeg:https://ressourcescoaticook.com/wp-content/uploads/2018/03/Clinique-impôt_CAB.jpg
ORGANIZER;CN="Centre d'action b%C3%A9n%C3%A9vole de la MRC de Coaticook":MAILTO:benevoles@cabmrccoaticook.org
END:VEVENT
BEGIN:VEVENT
DTSTART;TZID=America/Toronto:20230308T130000
DTEND;TZID=America/Toronto:20230308T160000
DTSTAMP:20260425T065554
CREATED:20230210T164936Z
LAST-MODIFIED:20230210T165039Z
UID:10004644-1678280400-1678291200@ressourcescoaticook.com
SUMMARY:Cliniques d'impôts pour personnes à faibles revenus - en présentiel
DESCRIPTION:Le Centre d’action bénévole de la MRC de Coaticook (CAB) va tenir ses traditionnelles cliniques d’impôts pour personnes à faibles revenus du mercredi 22 février au vendredi 28 avril.\nAprès deux ans en mode téléphonique\, nos cliniques d’impôts reprendront en mode hybride dès le 22 février.\nAinsi\, les inscriptions en présentiels et la récupération des documents se feront au Salon Winslow\, 87\, rue Main Ouest\, à Coaticook\, de 13 h à 16 h\, les mercredis 22 février\, 1er\, 8\, 15\, 22 et 29 mars\, 5\, 12\, 19 et 26 avril. Sans rendez-vous !\n\nUn service d’inscriptions téléphoniques sera également offert selon l’horaire suivant : de 9 h à 12 h\, les jeudis 23 février\, 9 et 23 mars et 13 avril. 819-849-7011\, poste 231. Les personnes y requérant devront ensuite amener leurs documents à l’accueil du Centre d’action bénévole.\n\nPlus d’informations sur notre site web: https://bit.ly/40NC2vk
URL:https://ressourcescoaticook.com/evenement/cliniques-dimpots-pour-personnes-a-faibles-revenus/2023-03-08/
LOCATION:Salon Winslow\, 87\, rue Main Ouest\, Coaticook\, Québec\, Canada
ATTACH;FMTTYPE=image/jpeg:https://ressourcescoaticook.com/wp-content/uploads/2018/03/Clinique-impôt_CAB.jpg
ORGANIZER;CN="Centre d'action b%C3%A9n%C3%A9vole de la MRC de Coaticook":MAILTO:benevoles@cabmrccoaticook.org
END:VEVENT
BEGIN:VEVENT
DTSTART;TZID=America/Toronto:20230301T130000
DTEND;TZID=America/Toronto:20230301T160000
DTSTAMP:20260425T065554
CREATED:20230210T164936Z
LAST-MODIFIED:20230210T165039Z
UID:10004643-1677675600-1677686400@ressourcescoaticook.com
SUMMARY:Cliniques d'impôts pour personnes à faibles revenus - en présentiel
DESCRIPTION:Le Centre d’action bénévole de la MRC de Coaticook (CAB) va tenir ses traditionnelles cliniques d’impôts pour personnes à faibles revenus du mercredi 22 février au vendredi 28 avril.\nAprès deux ans en mode téléphonique\, nos cliniques d’impôts reprendront en mode hybride dès le 22 février.\nAinsi\, les inscriptions en présentiels et la récupération des documents se feront au Salon Winslow\, 87\, rue Main Ouest\, à Coaticook\, de 13 h à 16 h\, les mercredis 22 février\, 1er\, 8\, 15\, 22 et 29 mars\, 5\, 12\, 19 et 26 avril. Sans rendez-vous !\n\nUn service d’inscriptions téléphoniques sera également offert selon l’horaire suivant : de 9 h à 12 h\, les jeudis 23 février\, 9 et 23 mars et 13 avril. 819-849-7011\, poste 231. Les personnes y requérant devront ensuite amener leurs documents à l’accueil du Centre d’action bénévole.\n\nPlus d’informations sur notre site web: https://bit.ly/40NC2vk
URL:https://ressourcescoaticook.com/evenement/cliniques-dimpots-pour-personnes-a-faibles-revenus/2023-03-01/
LOCATION:Salon Winslow\, 87\, rue Main Ouest\, Coaticook\, Québec\, Canada
ATTACH;FMTTYPE=image/jpeg:https://ressourcescoaticook.com/wp-content/uploads/2018/03/Clinique-impôt_CAB.jpg
ORGANIZER;CN="Centre d'action b%C3%A9n%C3%A9vole de la MRC de Coaticook":MAILTO:benevoles@cabmrccoaticook.org
END:VEVENT
BEGIN:VEVENT
DTSTART;TZID=America/Toronto:20230222T130000
DTEND;TZID=America/Toronto:20230222T160000
DTSTAMP:20260425T065554
CREATED:20230210T164936Z
LAST-MODIFIED:20230210T165039Z
UID:10004642-1677070800-1677081600@ressourcescoaticook.com
SUMMARY:Cliniques d'impôts pour personnes à faibles revenus - en présentiel
DESCRIPTION:Le Centre d’action bénévole de la MRC de Coaticook (CAB) va tenir ses traditionnelles cliniques d’impôts pour personnes à faibles revenus du mercredi 22 février au vendredi 28 avril.\nAprès deux ans en mode téléphonique\, nos cliniques d’impôts reprendront en mode hybride dès le 22 février.\nAinsi\, les inscriptions en présentiels et la récupération des documents se feront au Salon Winslow\, 87\, rue Main Ouest\, à Coaticook\, de 13 h à 16 h\, les mercredis 22 février\, 1er\, 8\, 15\, 22 et 29 mars\, 5\, 12\, 19 et 26 avril. Sans rendez-vous !\n\nUn service d’inscriptions téléphoniques sera également offert selon l’horaire suivant : de 9 h à 12 h\, les jeudis 23 février\, 9 et 23 mars et 13 avril. 819-849-7011\, poste 231. Les personnes y requérant devront ensuite amener leurs documents à l’accueil du Centre d’action bénévole.\n\nPlus d’informations sur notre site web: https://bit.ly/40NC2vk
URL:https://ressourcescoaticook.com/evenement/cliniques-dimpots-pour-personnes-a-faibles-revenus/2023-02-22/
LOCATION:Salon Winslow\, 87\, rue Main Ouest\, Coaticook\, Québec\, Canada
ATTACH;FMTTYPE=image/jpeg:https://ressourcescoaticook.com/wp-content/uploads/2018/03/Clinique-impôt_CAB.jpg
ORGANIZER;CN="Centre d'action b%C3%A9n%C3%A9vole de la MRC de Coaticook":MAILTO:benevoles@cabmrccoaticook.org
END:VEVENT
END:VCALENDAR